BEGIN:VCALENDAR
VERSION:2.0
PRODID:-//wp-events-plugin.com//7.0.4//EN
TZID:Asia/Muscat
X-WR-TIMEZONE:Asia/Muscat
BEGIN:VEVENT
UID:23@lpi-edu.com
DTSTART;TZID=Asia/Muscat:20240804T130000
DTEND;TZID=Asia/Muscat:20240808T170000
DTSTAMP:20240908T081820Z
URL:https://lpi-edu.com/events/%d8%a3%d8%b3%d8%a7%d8%b3%d9%8a%d8%a7%d8%aa-
 %d8%a7%d9%84%d8%aa%d8%af%d9%82%d9%8a%d9%82-%d8%a7%d9%84%d9%85%d8%a7%d9%84%
 d9%8a/
SUMMARY:أساسيات التدقيق المالي
DESCRIPTION:تدقيق الحسابات والسجلات المالية ا
 لداخلية والخارجية للمؤسسة، هو عبارة عن ت
 قييم جميع السجلات والمعلومات المالية وف
 رز عمليات المؤسسة المالية وأنظمتها وتقا
 ريرها بشكل مستقل، وضمان أنها صحيحة وفقاً
  للمتطلبات القانونية ومعايير التدقيق ال
 دولية.  \nحيث أن التدقيق المالي يتيح لإدا
 رة المؤسسة الحصول على تقارير صحيحة ومدقق
 ة يمكنها استخدامها في تحديد ثغرات الأنظم
 ة وتحديد المجالات التي تحتاج إلى تقليل ن
 فقات واكتشاف عمليات الاحتيال المبكرة وك
 ذلك تحسين الموارد.\nكصاحب مؤسسة وعمل تجار
 ي، لا يمكنك تسليم هذه المهمة لأشخاص تفتق
 ر الخبرة العالية أو لفريق ليس على دراية ك
 افية بمختلف أسالِيب التدقيق المالي والم
 حاسبي المتطورة، بحيث يمكنك ضمان تقديم تق
 رير خال من المشكلات والأخطاء التي يواجهو
 نها مما يجعلها تتفاقم فيما بعد وتسبب مشك
 لات كبير.\n وعلى هذا، تكمن أهمية دورة الت
 دقيق المالي  بتثقيف المدير المالي وفريق
 ه حول الأساليب التدقيقية ومعايير التدري
 ب والرقابة العالية، مع الاتجاهات التحلي
 لية التي توضح لإدارة المؤسسة كيف يمكن ضم
 ان عملِيات تدقيق صحيحة وتعزيز الشفافية ف
 ي الأداء.\nيرجى التواصل معنا لتزويدكم بال
 عرض الفني والمالي للبرنامج
ATTACH;FMTTYPE=image/jpeg:https://lpi-edu.com/wp-content/uploads/2023/11/A
 rtboard-2-100.jpg
CATEGORIES:Expired
END:VEVENT
BEGIN:VTIMEZONE
TZID:Asia/Muscat
X-LIC-LOCATION:Asia/Muscat
BEGIN:STANDARD
DTSTART:20230805T130000
TZOFFSETFROM:+0400
TZOFFSETTO:+0400
TZNAME:+04
END:STANDARD
END:VTIMEZONE
END:VCALENDAR