BEGIN:VCALENDAR
VERSION:2.0
PRODID:-//wp-events-plugin.com//7.0.4//EN
TZID:Asia/Muscat
X-WR-TIMEZONE:Asia/Muscat
BEGIN:VEVENT
UID:43@lpi-edu.com
DTSTART;TZID=Asia/Muscat:20241209T090000
DTEND;TZID=Asia/Muscat:20241213T130000
DTSTAMP:20250126T041850Z
URL:https://lpi-edu.com/events/%d8%a5%d8%b9%d8%af%d8%a7%d8%af-%d8%a7%d9%84
 %d8%aa%d9%82%d8%a7%d8%b1%d9%8a%d8%b1-%d8%a7%d9%84%d8%a7%d9%82%d8%aa%d8%b5%
 d8%a7%d8%af%d9%8a%d8%a9-%d8%a7%d9%84%d8%af%d9%88%d9%84%d9%8a%d8%a9/
SUMMARY:إعداد التقارير الاقتصادية الدولية
DESCRIPTION:في ظل التغيرات السريعة في الاقتصاد
  العالمي والتحديات المستمرة التي تواجه ا
 لدول والشركات على حد سواء، تزداد أهمية إ
 عداد\nالتقارير الاقتصادية الدولية المبن
 ية على أسس علمية ومنهجية. تقدم التقارير ا
 لاقتصادية الدولية معلومات دقيقة ومحدثة\n
 تساعد على اتخاذ خيارات استراتيجية تستند 
 إلى البيانات والتحليلات. تهدف هذه الورشة
  التدريبي إلى تزويد المشاركين بالمعرفة\n
 والأدوات اللازمة لفهم البيانات الاقتصاد
 ية الدولية، تحليلها، وصياغة تقارير مهني
 ة ذات تأثير كبير على الساحة الدولية .\nتُع
 د هذه الورشة فرصة للمشاركين لتطوير مهارا
 تهم في التعامل مع مصادر المعلومات الاقتص
 ادية، قراءة المؤشرات العالمية،\nواستخدا
 مها لتحليل الاتجاهات الاقتصادية الكبرى،
  مع التركيز على القدرة على إعداد تقارير ش
 املة وقابلة للتنفيذ من قِبل\nالمؤسسات ال
 حكومية والشركات العالمية\nيرجى التواصل م
 عنا لتزويدكم بالعرض الفني والمالي للبرن
 امج
ATTACH;FMTTYPE=image/jpeg:https://lpi-edu.com/wp-content/uploads/2023/11/A
 rtboard-5-100.jpg
CATEGORIES:Expired
LOCATION:Malyasia\, Kuala Lumpur\, Kuala Lumpur\, Malaysia
X-APPLE-STRUCTURED-LOCATION;VALUE=URI;X-ADDRESS=Kuala Lumpur\, Kuala Lumpur
 \, Malaysia;X-APPLE-RADIUS=100;X-TITLE=Malyasia:geo:0,0
END:VEVENT
BEGIN:VTIMEZONE
TZID:Asia/Muscat
X-LIC-LOCATION:Asia/Muscat
BEGIN:STANDARD
DTSTART:20231210T090000
TZOFFSETFROM:+0400
TZOFFSETTO:+0400
TZNAME:+04
END:STANDARD
END:VTIMEZONE
END:VCALENDAR