BEGIN:VCALENDAR
VERSION:2.0
PRODID:-//wp-events-plugin.com//7.0.4//EN
TZID:Asia/Muscat
X-WR-TIMEZONE:Asia/Muscat
BEGIN:VEVENT
UID:28@lpi-edu.com
DTSTART;TZID=Asia/Muscat:20240811T090000
DTEND;TZID=Asia/Muscat:20240815T130000
DTSTAMP:20240908T082022Z
URL:https://lpi-edu.com/events/%d8%a7%d9%84%d8%a3%d9%85%d9%86-%d8%a7%d9%84
 %d8%b3%d9%8a%d8%a8%d8%b1%d8%a7%d9%86%d9%8a-cybersecurity/
SUMMARY:الأمن السيبراني Cybersecurity
DESCRIPTION:This course introduces you to Cybersecurity\, a growing and rap
 idly changing field that is becoming increasingly vital to business surviv
 al\, job stability\, and national security. This training is ideal for IS/
 IT practitioners\, students and recent graduates to build knowledge of cyb
 ersecurity or get started on a career in the field. This knowledge is in h
 igh demand\, as cyberthreats continue to impact virtually every field of i
 nformation systems and enterprises around the world.\n\nPlease contact us 
 to provide more details
ATTACH;FMTTYPE=image/jpeg:https://lpi-edu.com/wp-content/uploads/2023/11/A
 rtboard-6-100.jpg
CATEGORIES:Expired
END:VEVENT
BEGIN:VTIMEZONE
TZID:Asia/Muscat
X-LIC-LOCATION:Asia/Muscat
BEGIN:STANDARD
DTSTART:20230812T090000
TZOFFSETFROM:+0400
TZOFFSETTO:+0400
TZNAME:+04
END:STANDARD
END:VTIMEZONE
END:VCALENDAR