BEGIN:VCALENDAR
VERSION:2.0
PRODID:-//wp-events-plugin.com//7.0.4//EN
TZID:Asia/Muscat
X-WR-TIMEZONE:Asia/Muscat
BEGIN:VEVENT
UID:5@lpi-edu.com
DTSTART;TZID=Asia/Muscat:20220828T000000
DTEND;TZID=Asia/Muscat:20220901T000000
DTSTAMP:20240128T083055Z
URL:https://lpi-edu.com/events/%d8%a7%d9%84%d8%a3%d9%87%d8%af%d8%a7%d9%81-
 %d9%88%d8%a7%d9%84%d9%86%d8%aa%d8%a7%d8%a6%d8%ac-%d8%a7%d9%84%d8%b1%d8%a6%
 d9%8a%d8%b3%d9%8a%d8%a9/
SUMMARY:الأهداف والنتائج الرئيسية
DESCRIPTION:&nbsp\;\n\n&nbsp\;
ATTACH;FMTTYPE=image/jpeg:https://lpi-edu.com/wp-content/uploads/2023/11/w
 eb2-100.jpg
CATEGORIES:Expired
END:VEVENT
BEGIN:VTIMEZONE
TZID:Asia/Muscat
X-LIC-LOCATION:Asia/Muscat
BEGIN:STANDARD
DTSTART:20210828T000000
TZOFFSETFROM:+0400
TZOFFSETTO:+0400
TZNAME:+04
END:STANDARD
END:VTIMEZONE
END:VCALENDAR