BEGIN:VCALENDAR
VERSION:2.0
PRODID:-//wp-events-plugin.com//7.0.4//EN
TZID:Asia/Muscat
X-WR-TIMEZONE:Asia/Muscat
BEGIN:VEVENT
UID:54@lpi-edu.com
DTSTART;TZID=Asia/Muscat:20250803T130000
DTEND;TZID=Asia/Muscat:20250807T170000
DTSTAMP:20250821T100200Z
URL:https://lpi-edu.com/events/%d8%a7%d9%84%d8%a7%d8%af%d8%a7%d8%b1%d8%a9-
 %d8%a7%d9%84%d8%ad%d9%83%d9%88%d9%85%d9%8a%d8%a9-%d9%88%d8%a7%d9%84%d8%b3%
 d9%84%d9%88%d9%83-%d8%a7%d9%84%d9%88%d8%b8%d9%8a%d9%81%d9%8a/
SUMMARY:الادارة الحكومية والسلوك الوظيفي
DESCRIPTION:برنامج الإدارة الحكومية والسلوك ا
 لوظيفي يهدف إلى تطوير مهارات وفعالية الع
 املين في القطاع العام. يتضمن البرنامج در
 اسة الأنظمة والسياسات الحكومية، بالإضاف
 ة إلى تعزيز القيم الأخلاقية والمهنية في 
 مكان العمل. كما يشمل التدريب على أساليب ا
 لقيادة الفعالة، التواصل الجيد، وتحفيز ا
 لموظفين. الهدف النهائي هو تحسين جودة الخ
 دمات الحكومية وزيادة كفاءة الأداء الوظي
 في.
ATTACH;FMTTYPE=image/jpeg:https://lpi-edu.com/wp-content/uploads/2023/11/A
 rtboard-5-100.jpg
CATEGORIES:Expired
END:VEVENT
BEGIN:VTIMEZONE
TZID:Asia/Muscat
X-LIC-LOCATION:Asia/Muscat
BEGIN:STANDARD
DTSTART:20240803T130000
TZOFFSETFROM:+0400
TZOFFSETTO:+0400
TZNAME:+04
END:STANDARD
END:VTIMEZONE
END:VCALENDAR