BEGIN:VCALENDAR
VERSION:2.0
PRODID:-//wp-events-plugin.com//7.0.4//EN
TZID:Asia/Muscat
X-WR-TIMEZONE:Asia/Muscat
BEGIN:VEVENT
UID:32@lpi-edu.com
DTSTART;TZID=Asia/Muscat:20241027T090000
DTEND;TZID=Asia/Muscat:20241031T130000
DTSTAMP:20241110T101315Z
URL:https://lpi-edu.com/events/%d8%a7%d9%84%d8%a7%d8%af%d8%a7%d8%b1%d8%a9-
 %d8%a7%d9%84%d9%81%d8%b9%d9%91%d8%a7%d9%84%d8%a9-%d9%84%d8%ae%d8%b7%d8%b7-
 %d8%a7%d9%84%d8%aa%d8%af%d8%b1%d9%8a%d8%a8-%d9%88%d8%a7%d9%84%d8%aa%d8%b7%
 d9%88/
SUMMARY:الادارة الفعّالة لخطط التدريب والتط
 وير - (ورشة عمل)
DESCRIPTION:أهداف  الورشة:\n\n 	\nتنمية مهارات مس
 ؤلي وأخصائي التدريب فى فهم الاتجاهات وال
 أساليب الحديثة لعملية التدريب ومكوناتها
 .\n\n 	\nبناء وتطوير مهارات التفكير الإسترا
 تيجية المؤثرة في كفاءة وفاعلية قسم التدر
 يب.\n\n 	\nتحديث المعرفة بأحدث التطورات في م
 جال إدارة التدريب\n\n 	\nصقل قدرات المشاركي
 ن في مجال تخطيط البرامج وإعداد الخطط الت
 دريبية بأسلوب علمي ممنهج بما تتلاءم مع أ
 هداف المنظمة بشكل عام وكل قسم داخل المنظ
 مة بشكل خاص.\n\n 	\nتمكين المشاركين من تحليل
  وتحديد الاحتياجات التدريبية وفقا لاحتي
 اجات المنظمة.\n\n 	\nتنمية المهارات الإداري
 ة للعاملين في قسم التدريب  لتقديم الدعم 
 لإدارات التدريب المرتبطة بالاقسام والدو
 ائر الأخرى داخل المنظمة.\n\n 	\nالتعرف على ا
 لمداخل والأساليب الحديثة في قياس وتقييم 
 واستثمار مخرجات العملية من التدريب وفق ل
 لنماذج والدراسات التطبيقية لمشاهير الفك
 ر الإداري الحديث والتي تطبق في اشهر إدار
 ات التدريب للمنظمات الحكومية والغير حكو
 مية .\n\n\nيرجى التواصل معنا لتزويدكم بالعر
 ض الفني والمالي للبرنامج
ATTACH;FMTTYPE=image/jpeg:https://lpi-edu.com/wp-content/uploads/2023/11/A
 rtboard-5-100.jpg
CATEGORIES:Expired
LOCATION:Kuala Lumpur\, Malaysia\, Kuala Lumpur\, Malaysia\, Malaysia
X-APPLE-STRUCTURED-LOCATION;VALUE=URI;X-ADDRESS=Malaysia\, Kuala Lumpur\, M
 alaysia\, Malaysia;X-APPLE-RADIUS=100;X-TITLE=Kuala Lumpur:geo:0,0
END:VEVENT
BEGIN:VTIMEZONE
TZID:Asia/Muscat
X-LIC-LOCATION:Asia/Muscat
BEGIN:STANDARD
DTSTART:20231028T090000
TZOFFSETFROM:+0400
TZOFFSETTO:+0400
TZNAME:+04
END:STANDARD
END:VTIMEZONE
END:VCALENDAR