BEGIN:VCALENDAR
VERSION:2.0
PRODID:-//wp-events-plugin.com//7.0.4//EN
TZID:Asia/Muscat
X-WR-TIMEZONE:Asia/Muscat
BEGIN:VEVENT
UID:55@lpi-edu.com
DTSTART;TZID=Asia/Muscat:20250803T090000
DTEND;TZID=Asia/Muscat:20250807T130000
DTSTAMP:20250821T100059Z
URL:https://lpi-edu.com/events/%d8%a7%d9%84%d8%aa%d8%ad%d9%84%d9%8a%d9%84-
 %d8%a7%d9%84%d9%85%d8%a7%d9%84%d9%8a-%d8%a8%d8%a7%d8%b3%d8%aa%d8%ae%d8%af%
 d8%a7%d9%85-%d8%a7%d9%84%d8%b0%d9%83%d8%a7%d8%a1-%d8%a7%d9%84%d8%b5%d9%86%
 d8%a7/
SUMMARY:التحليل المالي باستخدام الذكاء الصن
 اعي
DESCRIPTION:برنامج تدريبي للتحليل المالي باست
 خدام الذكاء الصناعي يهدف إلى تزويد المشا
 ركين بالمعرفة والمهارات اللازمة لتطبيق 
 تقنيات الذكاء الاصطناعي في مجال التحليل 
 المالي. يتضمن البرنامج عادةً ما يلي\nمقدم
 ة في الذكاء الاصطناعي: فهم أساسيات الذكا
 ء الاصطناعي وتطبيقاته في الأعمال.\nالتحل
 يل المالي التقليدي: تعلم الأساليب التقلي
 دية للتحليل المالي وفهم أهميتها.\nأدوات ا
 لذكاء الاصطناعي: التعرف على الأدوات والت
 قنيات المستخدمة مثل تعلم الآلة، وتحليل ا
 لبيانات الكبيرة.\nتطبيق الذكاء الاصطناعي
  في التحليل المالي: دراسة كيفية استخدام ا
 لذكاء الاصطناعي لتحسين دقة التوقعات الم
 الية وتحليل المخاطر.\nمشاريع عملية: تنفيذ
  مشاريع عملية لتحليل بيانات مالية باستخد
 ام تقنيات الذكاء الاصطناعي، مما يساعد عل
 ى تعزيز المهارات العملية.\nتحليل الاتجاه
 ات والتنبؤات: تعلم كيفية استخدام النماذج
  الذكية لتحليل الاتجاهات السوقية والتنب
 ؤ بالأداء المالي.\nالمدة والمحتوى قد تختل
 ف حسب الجهة المنظمة، ولكن الهدف هو تعزيز 
 الكفاءة وتزويد المشاركين بمهارات نادرة 
 تساعدهم في التفوق في سوق العمل.
ATTACH;FMTTYPE=image/jpeg:https://lpi-edu.com/wp-content/uploads/2023/11/A
 rtboard-6-100.jpg
CATEGORIES:Expired
END:VEVENT
BEGIN:VTIMEZONE
TZID:Asia/Muscat
X-LIC-LOCATION:Asia/Muscat
BEGIN:STANDARD
DTSTART:20240803T090000
TZOFFSETFROM:+0400
TZOFFSETTO:+0400
TZNAME:+04
END:STANDARD
END:VTIMEZONE
END:VCALENDAR