BEGIN:VCALENDAR
VERSION:2.0
PRODID:-//wp-events-plugin.com//7.0.4//EN
TZID:Asia/Muscat
X-WR-TIMEZONE:Asia/Muscat
BEGIN:VEVENT
UID:48@lpi-edu.com
DTSTART;TZID=Asia/Muscat:20250420T080000
DTEND;TZID=Asia/Muscat:20250424T140000
DTSTAMP:20250430T171148Z
URL:https://lpi-edu.com/events/%d8%a7%d9%84%d8%aa%d8%b5%d9%85%d9%8a%d9%85-
 %d8%a8%d8%a7%d8%b3%d8%aa%d8%ae%d8%af%d8%a7%d9%85-%d8%a7%d9%84%d8%b0%d9%83%
 d8%a7%d8%a1-%d8%a7%d9%84%d8%a7%d8%b5%d8%b7%d9%86%d8%a7%d8%b9%d9%8a/
SUMMARY:التصميم باستخدام الذكاء الاصطناعي
DESCRIPTION:\nتتطور التكنولوجيا بشكل متسارع ال
 يوم، وأصبح الذكاء الاصطناعي أداة قوية تغ
 ير ملامح العديد من المجالات، ومن أبرزها 
 مجال تصميم الجرافيك. هذه الدورة تم تصميم
 ها لتزويد المصممين والمبدعين بالمهارات 
 اللازمة لاستخدام الذكاء الاصطناعي بشكل 
 احترافي في أعمالهم الجرافيكية. الدورة تب
 دأ بمدخل تفصيلي إلى الذكاء الاصطناعي في 
 تصميم الجرافيك، حيث يتعرف المتدرب على ال
 أساسيات والفرص التي يقدمها الذكاء الاصط
 ناعي لتحويل الأفكار إلى تصميمات مبتكرة ب
 سهولة. ويتعلم كيفية كتابة أوامر دقيقة وف
 عالة للذكاء الاصطناعي، وهو مهارة أساسية 
 للوصول إلى النتائج دقيقة المرجوة. تشمل ا
 لدورة أيضًا تدريبًا عمليًا على استخدام أ
 دوات حديثة ومتطورة مثل Generative AI الموجودة 
 في الفوتوشوب والتي تساعدك في إنتاج تصميم
 ات احترافية بسهولة، وAdobe Firefly، التي تتيح 
 إنشاء تصميمات مذهلة اعتمادًا على الذكاء 
 الاصطناعي. ويمنح كل ذلك المتدرب القدرة ع
 لى تعديل الصور وتطبيق التأثيرات بطريقة م
 بهرة. لن تقتصر الدورة على استخدام الأدوا
 ت فقط، بل ستتعلم أيضًا كيفية دمج الذكاء ا
 لاصطناعي مع برامج التصميم الشهيرة مثل Phot
 oshop، ليتمكن من تحسين جودة الصور وإضافة لم
 سات إبداعية بسهولة وسرعة.\n\n
ATTACH;FMTTYPE=image/jpeg:https://lpi-edu.com/wp-content/uploads/2023/11/A
 rtboard-3-100.jpg
CATEGORIES:Expired
END:VEVENT
BEGIN:VTIMEZONE
TZID:Asia/Muscat
X-LIC-LOCATION:Asia/Muscat
BEGIN:STANDARD
DTSTART:20240420T080000
TZOFFSETFROM:+0400
TZOFFSETTO:+0400
TZNAME:+04
END:STANDARD
END:VTIMEZONE
END:VCALENDAR