BEGIN:VCALENDAR
VERSION:2.0
PRODID:-//wp-events-plugin.com//7.0.4//EN
TZID:Asia/Muscat
X-WR-TIMEZONE:Asia/Muscat
BEGIN:VEVENT
UID:25@lpi-edu.com
DTSTART;TZID=Asia/Muscat:20240811T090000
DTEND;TZID=Asia/Muscat:20240815T130000
DTSTAMP:20240908T082224Z
URL:https://lpi-edu.com/events/%d8%a7%d9%84%d8%aa%d9%85%d9%8a%d8%b2-%d9%82
 %d9%8a%d8%a7%d8%af%d9%8a-%d9%88%d8%a8%d9%86%d8%a7%d8%a1-%d8%a7%d9%84%d8%ab
 %d9%82%d8%a7%d9%81%d8%a9-%d8%a7%d9%84%d9%85%d8%a4%d8%b3%d8%b3%d9%8a%d8%a9/
SUMMARY:التميز قيادي وبناء الثقافة المؤسسية
DESCRIPTION:خلال هذه الدورة، سيتعلم المشاركون 
 كيفية تطبيق مبادئ التميز القيادي في بيئا
 ت العمل المختلفة، مع التركيز على تعزيز ا
 لثقافة المؤسسية كعامل رئيسي لتحقيق التف
 وق المؤسسي. سيتم استعراض أفضل الممارسات 
 العالمية في التميز القيادي  واستخدام ال
 تطبيقات العملية الواقعية لتوضيح كيفية ت
 نفيذ هذه الممارسات بنجاح. كما ستتضمن الد
 ورة ورش عمل تفاعلية تهدف إلى تطوير مهارا
 ت المشاركين في التميز القيادي، وحل المشك
 لات بطرق مبتكرة، وبناء ثقافة تنظيمية داع
 مة للإبداع والتفوق. بنهاية الدورة، سيكون
  لدى المشاركين رؤية شاملة واستراتيجيات ف
 عّالة لقيادة مؤسساتهم نحو مستقبل أكثر إب
 داعاً واستدامة.\nيرجى التواصل معنا لتزوي
 دكم بالعرض الفني والمالي للبرنامج
ATTACH;FMTTYPE=image/jpeg:https://lpi-edu.com/wp-content/uploads/2023/11/A
 rtboard-5-100.jpg
CATEGORIES:Expired
END:VEVENT
BEGIN:VTIMEZONE
TZID:Asia/Muscat
X-LIC-LOCATION:Asia/Muscat
BEGIN:STANDARD
DTSTART:20230812T090000
TZOFFSETFROM:+0400
TZOFFSETTO:+0400
TZNAME:+04
END:STANDARD
END:VTIMEZONE
END:VCALENDAR