BEGIN:VCALENDAR
VERSION:2.0
PRODID:-//wp-events-plugin.com//7.0.4//EN
TZID:Asia/Muscat
X-WR-TIMEZONE:Asia/Muscat
BEGIN:VEVENT
UID:36@lpi-edu.com
DTSTART;TZID=Asia/Muscat:20240922T080000
DTEND;TZID=Asia/Muscat:20240926T133000
DTSTAMP:20241001T090014Z
URL:https://lpi-edu.com/events/%d8%a7%d9%84%d8%aa%d9%86%d8%b3%d9%8a%d9%82-
 %d9%88%d8%a7%d9%84%d9%85%d8%aa%d8%a7%d8%a8%d8%b9%d8%a9-%d8%a7%d9%84%d8%a5%
 d8%af%d8%a7%d8%b1%d9%8a%d8%a9/
SUMMARY:التنسيق والمتابعة الإدارية
DESCRIPTION:أهداف  البرنامج:\n\n 	تنمية مهارات ا
 لتنسيق والمتابعة  (التطبيقية) داخل القسم
  وبين مختلف الإدارات.\n 	إثارة ملكة الابتك
 ار وإحداث التغيير والتطوير المستمر كأسل
 وب لتحقيق الاهداف وتعظيم الإنتاجية.\n 	تط
 بيق منهج الجودة الشاملة فى الأداء .\n 	كيف
 ية إدارة الأولولويات والمهام الموكلة تح
 ت ضغط العمل.\n 	استخدام أدوات التخطيط والت
 نظيم الفعال لإداء المهام.\n 	تنمية المعار
 ف حول مفاهيم الأداء والكفاءة والفعالية و
 العمل بروح الفريق.\n 	التعرف على الأنماط ا
 لسلوكية التي يواجهها في عمله وكيفية التع
 امل معها.\n 	القدرة على التعامل مع التسويف
  والمماطلة.\n 	كيفية وضع الأهداف وإدارة ال
 مسؤولية وترتيب المهام حسب مصفوفة (عاجلXه
 ام)\n 	كيفية التعامل مع مضيعات الوقت والعق
 بات اليومية والممارسات السلبية في بيئة ا
 لعمل\n 	تمكين المشاركين من وضع خطة عمل من 
 أجل تحقيق الأهداف حسب المعايير والإجراء
 ات المطلوبة من المؤسسة.\n 	استعراض لبعض ال
 تطبيقات الأساسية لبرامج  Microsoft office   لتط
 وير أداء ومهارات الموظفين داخل المنظمة.\n
  	استخدام بعض برمجيات الذكاء الاصطناعي AI 
 لإنجاز العمل بكفاءوة وفاعلية.\n\nيرجى الت
 واصل معنا لتزويدكم بالعرض الفني والمالي 
 للبرنامج
ATTACH;FMTTYPE=image/jpeg:https://lpi-edu.com/wp-content/uploads/2023/11/A
 rtboard-5-100.jpg
CATEGORIES:Expired
LOCATION:LPi Institute\, Muscat\, St 99\, Al Jami Al Akbar St\,  Galla\, Pe
 arl Tower\, 3rd Floor\, Muscat\, 900\, Oman
X-APPLE-STRUCTURED-LOCATION;VALUE=URI;X-ADDRESS=Muscat\, St 99\, Al Jami Al
  Akbar St\,  Galla\, Pearl Tower\, 3rd Floor\, Muscat\, 900\, Oman;X-APPLE
 -RADIUS=100;X-TITLE=LPi Institute:geo:0,0
END:VEVENT
BEGIN:VTIMEZONE
TZID:Asia/Muscat
X-LIC-LOCATION:Asia/Muscat
BEGIN:STANDARD
DTSTART:20230923T080000
TZOFFSETFROM:+0400
TZOFFSETTO:+0400
TZNAME:+04
END:STANDARD
END:VTIMEZONE
END:VCALENDAR