BEGIN:VCALENDAR
VERSION:2.0
PRODID:-//wp-events-plugin.com//7.0.4//EN
TZID:Asia/Muscat
X-WR-TIMEZONE:Asia/Muscat
BEGIN:VEVENT
UID:45@lpi-edu.com
DTSTART;TZID=Asia/Muscat:20250210T090000
DTEND;TZID=Asia/Muscat:20250214T130000
DTSTAMP:20250416T185547Z
URL:https://lpi-edu.com/events/%d8%a7%d9%84%d8%b0%d9%83%d8%a7%d8%a1-%d8%a7
 %d9%84%d8%a7%d8%b5%d8%b7%d9%86%d8%a7%d8%b9%d9%8a-%d9%81%d9%8a-%d8%a7%d9%84
 %d8%a5%d8%af%d8%a7%d8%b1%d8%a9-%d8%a7%d9%84%d8%a7%d8%b3%d8%aa%d8%b1%d8%a7%
 d8%aa/
SUMMARY:الذكاء الاصطناعي في الإدارة الاسترا
 تيجية
DESCRIPTION:\nفي عصر التحول الرقمي، أصبح الذكاء
  الاصطناعي أحد الأدوات الأساسية لتعزيز ا
 لقرارات الاستراتيجية وتحقيق ميزة تنافسي
 ة. يقدم هذا البرنامج رؤية شاملة حول كيفية
  دمج تقنيات الذكاء الاصطناعي في عمليات ا
 لإدارة الاستراتيجية لتحسين الأداء، رفع 
 الكفاءة، والتكيف مع التحديات المستقبلية
 .\nما الذي ستتعلمه في هذا البرنامج؟\nمقدمة
  في الذكاء الاصطناعي:\nفهم أساسيات الذكاء
  الاصطناعي وتطبيقاته العملية في بيئات ال
 أعمال.\nالتعرف على أحدث الاتجاهات في تقني
 ات الذكاء الاصطناعي وتأثيرها على الإدار
 ة.\nالذكاء الاصطناعي في التخطيط الاسترات
 يجي:\nكيفية استخدام البيانات والتحليلات 
 المدعومة بالذكاء الاصطناعي لصياغة استرا
 تيجيات دقيقة ومبتكرة.\nأدوات تنبؤ الأسوا
 ق وتحليل المخاطر باستخدام الذكاء الاصطن
 اعي.\nتحسين العمليات واتخاذ القرارات:\nتط
 بيق تقنيات التعلم الآلي لتحسين العمليات 
 الإدارية.\nاستراتيجيات اتخاذ القرارات ال
 معتمدة على التحليلات الذكية.\nالتحديات ا
 لأخلاقية وإدارة المخاطر:\nالتعرف على الق
 ضايا الأخلاقية المتعلقة باستخدام الذكاء
  الاصطناعي في الإدارة.\nكيفية إدارة المخا
 طر المرتبطة بالتقنيات الحديثة.\nمميزات ا
 لبرنامج:\nتقديم أمثلة عملية ودراسات حالة 
 من شركات رائدة.\nتدريب تفاعلي مع خبراء في 
 مجال الذكاء الاصطناعي والإدارة.\nمواد تد
 ريبية متكاملة تدعم فهم النظريات والتطبي
 قات.\nأهمية البرنامج:\nهذا البرنامج ليس مج
 رد تدريب تقني؛ بل هو فرصة لاكتشاف كيف يمك
 ن للذكاء الاصطناعي أن يعيد تشكيل الإدارة
  الاستراتيجية ويقود منظمتك نحو النجاح في
  عالم متغير.\n\n\nيرجى التواصل معنا لتزويدك
 م بالعرض الفني والمالي للبرنامج
ATTACH;FMTTYPE=image/jpeg:https://lpi-edu.com/wp-content/uploads/2023/11/A
 rtboard-5-100.jpg
CATEGORIES:Expired
END:VEVENT
BEGIN:VTIMEZONE
TZID:Asia/Muscat
X-LIC-LOCATION:Asia/Muscat
BEGIN:STANDARD
DTSTART:20240211T090000
TZOFFSETFROM:+0400
TZOFFSETTO:+0400
TZNAME:+04
END:STANDARD
END:VTIMEZONE
END:VCALENDAR