BEGIN:VCALENDAR
VERSION:2.0
PRODID:-//wp-events-plugin.com//7.0.4//EN
TZID:Asia/Muscat
X-WR-TIMEZONE:Asia/Muscat
BEGIN:VEVENT
UID:53@lpi-edu.com
DTSTART;TZID=Asia/Muscat:20250803T090000
DTEND;TZID=Asia/Muscat:20250807T130000
DTSTAMP:20250821T100130Z
URL:https://lpi-edu.com/events/%d8%a7%d9%84%d9%82%d9%8a%d8%a7%d8%af%d8%a9-
 %d8%a8%d8%a7%d9%84%d8%a8%d9%8a%d8%a7%d9%86%d8%a7%d8%aa-%d8%aa%d8%ad%d8%b3%
 d9%8a%d9%86-%d8%b9%d9%85%d9%84%d9%8a%d8%a7%d8%aa-%d8%b5%d9%86%d8%b9-%d8%a7
 %d9%84/
SUMMARY:القيادة بالبيانات: تحسين عمليات صنع 
 القرار وتعزيز الكفاءة الانتاجية
DESCRIPTION:تعتبر القيادة من العناصر الأساسية 
 التي تساهم في نجاح المؤسسات وتحقيق أهداف
 ها. في عالم الأعمال المتسارع والمتغير، ي
 تطلب الأمر قادة يمتلكون القدرة على تحسين
  صنع القرار وكفاءة الإنتاج. يركز برنامج ا
 لقيادة على تطوير المهارات القيادية من خل
 ال تقديم أساليب وتقنيات تهدف إلى تعزيز ا
 لقدرة على اتخاذ القرارات الفعالة والمست
 نيرة. يتناول البرنامج استراتيجيات لتحلي
 ل البيانات واستخدامها كمصدر قوي للمعلوم
 ات، مما يمكن القادة من تيسير عملياتهم ال
 إنتاجية وتحقيق أداء استثنائي.\nأهداف الب
 رنامج:\nتعزيز مهارات القيادة الفعالة وتح
 سين القدرة على التوجيه والإشراف.\nتطوير م
 هارات تحليل البيانات واستخدامها في اتخا
 ذ القرارات الاستراتيجية.\nتحسين كفاءة ال
 إنتاج من خلال استراتيجيات الإدارة الفعا
 لة.\nتعزيز مهارات الاتصال والتواصل الفعّ
 ال بين الفرق.\nتطوير القدرة على التعامل م
 ع التحديات وحل المشكلات بطرق مبتكرة.\nتعز
 يز التفكير الاستراتيجي ورؤية المستقبل ف
 ي بيئة العمل.
ATTACH;FMTTYPE=image/jpeg:https://lpi-edu.com/wp-content/uploads/2023/11/A
 rtboard-5-100.jpg
CATEGORIES:Expired
END:VEVENT
BEGIN:VTIMEZONE
TZID:Asia/Muscat
X-LIC-LOCATION:Asia/Muscat
BEGIN:STANDARD
DTSTART:20240803T090000
TZOFFSETFROM:+0400
TZOFFSETTO:+0400
TZNAME:+04
END:STANDARD
END:VTIMEZONE
END:VCALENDAR