BEGIN:VCALENDAR
VERSION:2.0
PRODID:-//wp-events-plugin.com//7.0.4//EN
TZID:Asia/Muscat
X-WR-TIMEZONE:Asia/Muscat
BEGIN:VEVENT
UID:21@lpi-edu.com
DTSTART;TZID=Asia/Muscat:20240804T090000
DTEND;TZID=Asia/Muscat:20240808T130000
DTSTAMP:20240908T081947Z
URL:https://lpi-edu.com/events/%d8%a7%d9%84%d9%82%d9%8a%d8%a7%d8%af%d8%a9-
 %d8%a8%d8%a7%d9%84%d8%a8%d9%8a%d8%a7%d9%86%d8%a7%d8%aa/
SUMMARY:القيادة بالبيانات
DESCRIPTION:لقد كانت عملية اتخاذ القرارات بسيط
 ة ومبنية أصلا على قدرات الإنسان وخبراته. 
 ومع تعقد الحياة اليومية وتزايد الإعمال ا
 لإدارية وتشابكها وتداخلها وتعدد الإدارا
 ت وتنوع منتجات المؤسسات وخدماتها، وظهور 
 كثير من المشكلات التي تواجهها، أصبح لزام
 ا البحث عن أساليب أكثر فعالية وكفاءة لدع
 م نظم اتخاذ القرار.\nلقد ارتبطت عملية صنع 
 واتخاذ القرارات بكثير من العلوم الإنسان
 ية والاجتماعية والطبيعية الأخرى، ولم يع
 د ذلك رفاها علميا بقدر ما أصبح ضرورة فرضت
 ها متطلبات الوصول إلى قرارات سليمة وصحيح
 ة بنسب عالية. وحيث أن الإدارة في حد ذاتها 
 عملية اتخاذ قرار، فأن ذلك يدعو إلى الاست
 عانة بمناهج العلوم الطبيعية من رياضيات و
 إحصاء وغيرها، لدعم نظم عملية صنع واتخاذ 
 القرارات. وأدى ذلك لاستخدام المناهج العل
 مية في طرق جمع البيانات والمعلومات وتصني
 فها وتحليلها باستخدام طرائق رياضية وإحص
 ائية ومناهج بحوث عمليات والتي تعد حزمة م
 ن الأساليب والطرق تتبعها الإدارة أو القا
 ئمين على تحليل البيانات للحصول على مؤشرا
 ت ودلالات رصينة، تيسر الوصول إلى قرارات 
 سليمة وصحيحة وأكثر دقة.\nيُعدّ تحليل البي
 انات ضروريا للحصول على معلومات دقيقة لات
 خاذ قرارات مستنيرة وفعّالة، وأكثر ذكاءً 
 في مجال العمل.\nيرجى التواصل معنا لتزويدك
 م بالعرض الفني والمالي للبرنامج
ATTACH;FMTTYPE=image/jpeg:https://lpi-edu.com/wp-content/uploads/2023/11/A
 rtboard-2-100.jpg
CATEGORIES:Expired
END:VEVENT
BEGIN:VTIMEZONE
TZID:Asia/Muscat
X-LIC-LOCATION:Asia/Muscat
BEGIN:STANDARD
DTSTART:20230805T090000
TZOFFSETFROM:+0400
TZOFFSETTO:+0400
TZNAME:+04
END:STANDARD
END:VTIMEZONE
END:VCALENDAR