BEGIN:VCALENDAR
VERSION:2.0
PRODID:-//wp-events-plugin.com//7.0.4//EN
TZID:Asia/Muscat
X-WR-TIMEZONE:Asia/Muscat
BEGIN:VEVENT
UID:24@lpi-edu.com
DTSTART;TZID=Asia/Muscat:20240804T130000
DTEND;TZID=Asia/Muscat:20240808T170000
DTSTAMP:20240908T054717Z
URL:https://lpi-edu.com/events/%d8%a7%d9%84%d9%85%d9%87%d8%a7%d8%b1%d8%a7%
 d8%aa-%d8%a7%d9%84%d9%85%d8%aa%d9%82%d8%af%d9%85%d8%a9-%d8%a8%d8%a7%d8%b3%
 d8%aa%d8%ae%d8%af%d8%a7%d9%85-excel/
SUMMARY:المهارات المتقدمة باستخدام الإكسل
DESCRIPTION:Are you looking to become a proficient Excel user? Professional
  Excel training from LPi can get you on the path to mastering this popular
  data spreadsheet software.\n\nThrough completing the MOS 2016/ Microsoft 
 Excel Expert training course\, you’ll be ready to create custom formulas
 \, apply built-in Excel functions and manipulate data to extract the insig
 hts you need\, also prepares you to complete difficult Excel tasks such as
  LOOKUPS\, macros and more.\n\nThe course also covers Microsoft Office Spe
 cialist exam objectives to help you prep for the certification exam. Exam 
 77-728\n\nThe Microsoft Office Specialist (MOS) certification program has 
 been designed to validate your knowledge of and ability to use programs in
  the Microsoft Office 2016 suite of programs.\n\nPlease contact us to prov
 ide more details
ATTACH;FMTTYPE=image/jpeg:https://lpi-edu.com/wp-content/uploads/2023/11/A
 rtboard-6-100.jpg
CATEGORIES:Expired
END:VEVENT
BEGIN:VTIMEZONE
TZID:Asia/Muscat
X-LIC-LOCATION:Asia/Muscat
BEGIN:STANDARD
DTSTART:20230805T130000
TZOFFSETFROM:+0400
TZOFFSETTO:+0400
TZNAME:+04
END:STANDARD
END:VTIMEZONE
END:VCALENDAR