BEGIN:VCALENDAR
VERSION:2.0
PRODID:-//wp-events-plugin.com//7.0.4//EN
TZID:Asia/Muscat
X-WR-TIMEZONE:Asia/Muscat
BEGIN:VEVENT
UID:22@lpi-edu.com
DTSTART;TZID=Asia/Muscat:20240804T090000
DTEND;TZID=Asia/Muscat:20240808T130000
DTSTAMP:20240908T082058Z
URL:https://lpi-edu.com/events/%d8%a7%d9%84%d9%86%d8%b8%d9%85-%d8%a7%d9%84
 %d8%ad%d8%af%d9%8a%d8%ab%d8%a9-%d9%81%d9%8a-%d8%a7%d9%84%d8%a5%d8%af%d8%a7
 %d8%b1%d8%a9-%d8%a7%d9%84%d9%85%d8%a7%d9%84%d9%8a%d8%a9/
SUMMARY:النظم الحديثة في الإدارة المالية
DESCRIPTION: إكساب المتدربين مهارات حديثة فى إ
 دارة الشئون الماليه و التحليل المالى ومن
 اقشة الأساليب والادوات المستخدمة العملي
 ه للتحليل المالى وأثرها فى إعداد التقاري
 ر.\nتمكين المتدربين من تهيئة التقارير الم
 الية لإجراء التحليل المالى ، واستخدام أد
 وات حديثة يمكن من خلالها تقييم الأداء ال
 مالى للمنظمات وتحليل مؤشرات الربحية وال
 سيولة والمديونية وتقييم كفاءة استخدام ا
 لموارد فى ضوء حالات عملية متنوعة .\nتزويد 
 المتدربين بأدوات حديثة للتنبؤ بالأداء ا
 لمالى المستقبلى والتقرير عن حالات الفشل 
 أو النجاح المالى للمنظمات ، واستعراض مدا
 خل إعادة الهيكلة .\nإكساب المتدربين مهارا
 ت فى إجراء التحليل المالي التطبيقي على ع
 دد من الشركات ،وبما يمكن المتدربين من إج
 راء تقييم واقعي للأداء المالي وطبقا للمم
 ارسة العملية لعدد من الشركات التي تمثل ق
 طاعات مختلفة في الاقتصاد.\nتفعيل أداء الم
 تدربين في إعداد وعرض التقارير بنتائج الت
 حليل المالي والأداء الاقنصادى ووفقا لمن
 هجية تعتمد على أدوات موضوعية وحديثة .\nير
 جى التواصل معنا لتزويدكم بالعرض الفني وا
 لمالي للبرنامج
ATTACH;FMTTYPE=image/jpeg:https://lpi-edu.com/wp-content/uploads/2023/11/A
 rtboard-5-100.jpg
CATEGORIES:Expired
END:VEVENT
BEGIN:VTIMEZONE
TZID:Asia/Muscat
X-LIC-LOCATION:Asia/Muscat
BEGIN:STANDARD
DTSTART:20230805T090000
TZOFFSETFROM:+0400
TZOFFSETTO:+0400
TZNAME:+04
END:STANDARD
END:VTIMEZONE
END:VCALENDAR