BEGIN:VCALENDAR
VERSION:2.0
PRODID:-//wp-events-plugin.com//7.0.4//EN
TZID:Asia/Muscat
X-WR-TIMEZONE:Asia/Muscat
BEGIN:VEVENT
UID:8@lpi-edu.com
DTSTART;TZID=Asia/Muscat:20221030T000000
DTEND;TZID=Asia/Muscat:20221102T000000
DTSTAMP:20240624T100028Z
URL:https://lpi-edu.com/events/%d8%aa%d8%ad%d8%af%d9%8a%d8%af-%d8%a7%d9%84
 %d8%a7%d8%ad%d8%aa%d9%8a%d8%a7%d8%ac%d8%a7%d8%aa-%d8%a7%d9%84%d8%aa%d8%af%
 d8%b1%d9%8a%d8%a8%d9%8a%d8%a9/
SUMMARY:تحديد الاحتياجات التدريبية
DESCRIPTION:
ATTACH;FMTTYPE=image/jpeg:https://lpi-edu.com/wp-content/uploads/2023/11/w
 eb-5-100.jpg
CATEGORIES:Expired
END:VEVENT
BEGIN:VTIMEZONE
TZID:Asia/Muscat
X-LIC-LOCATION:Asia/Muscat
BEGIN:STANDARD
DTSTART:20211030T000000
TZOFFSETFROM:+0400
TZOFFSETTO:+0400
TZNAME:+04
END:STANDARD
END:VTIMEZONE
END:VCALENDAR