BEGIN:VCALENDAR
VERSION:2.0
PRODID:-//wp-events-plugin.com//7.0.4//EN
TZID:Asia/Muscat
X-WR-TIMEZONE:Asia/Muscat
BEGIN:VEVENT
UID:52@lpi-edu.com
DTSTART;TZID=Asia/Muscat:20260510T080000
DTEND;TZID=Asia/Muscat:20260514T140000
DTSTAMP:20260317T062558Z
URL:https://lpi-edu.com/events/%d8%aa%d8%b7%d8%a8%d9%8a%d9%82%d8%a7%d8%aa-
 %d8%a7%d9%84%d8%b0%d9%83%d8%a7%d8%a1-%d8%a7%d9%84%d8%b5%d9%86%d8%a7%d8%b9%
 d9%8a-%d9%81%d9%8a-%d8%a8%d9%8a%d8%a6%d8%a9-%d8%a7%d9%84%d8%b9%d9%85%d9%84
 /
SUMMARY:Generative AI تطبيقات الذكاء الصناعي في بي
 ئة العمل
DESCRIPTION:المقدمة\nفي عصر التحول الرقمي، أصب
 ح الذكاء الاصطناعي (AI) أحد أبرز الأدوات ا
 لتي تدعم اتخاذ القرار، وتسرّع الإنتاجية
 ، وتحسن جودة العمل. تهدف هذه الدورة العمل
 ية إلى تزويد المشاركين بفهم تطبيقي مباشر
  لأبرز أدوات وتقنيات الذكاء الاصطناعي ال
 مستخدمة حاليًا في الأعمال المكتبية، الت
 حليل، الإدارة، والتواصل.\n\nأهداف الدورة\n
 بنهاية هذه الورشة التطبيقية، سيكون المش
 اركون قادرين على:\n\n\n 	فهم استخدامات الذك
 اء الاصطناعي في الأعمال اليومية.\n 	تطبيق 
 أدوات الذكاء الاصطناعي في تحليل البيانا
 ت، كتابة المحتوى، دعم العملاء، وإدارة ال
 وقت.\n 	التعامل مع أدوات AI شائعة مثل ChatGPT، C
 anva AI، Notion AI، Excel Copilot، وPower BI AI.\n 	بناء نماذ
 ج تطبيقية ومهام مخصصة حسب بيئة العمل.\n 	ت
 قييم الإمكانات والتحديات الواقعية لاستخ
 دام الذكاء الاصطناعي في مؤسستهم.\n
ATTACH;FMTTYPE=image/jpeg:https://lpi-edu.com/wp-content/uploads/2025/07/G
 enerative-AI.webp
CATEGORIES:Upcoming
LOCATION:LPi Institute\, Muscat\, St 99\, Al Jami Al Akbar St\,  Galla\, Pe
 arl Tower\, 3rd Floor\, Muscat\, 900\, Oman
X-APPLE-STRUCTURED-LOCATION;VALUE=URI;X-ADDRESS=Muscat\, St 99\, Al Jami Al
  Akbar St\,  Galla\, Pearl Tower\, 3rd Floor\, Muscat\, 900\, Oman;X-APPLE
 -RADIUS=100;X-TITLE=LPi Institute:geo:0,0
END:VEVENT
BEGIN:VTIMEZONE
TZID:Asia/Muscat
X-LIC-LOCATION:Asia/Muscat
BEGIN:STANDARD
DTSTART:20250510T080000
TZOFFSETFROM:+0400
TZOFFSETTO:+0400
TZNAME:+04
END:STANDARD
END:VTIMEZONE
END:VCALENDAR