BEGIN:VCALENDAR
VERSION:2.0
PRODID:-//wp-events-plugin.com//7.0.4//EN
TZID:Asia/Muscat
X-WR-TIMEZONE:Asia/Muscat
BEGIN:VEVENT
UID:26@lpi-edu.com
DTSTART;TZID=Asia/Muscat:20240811T130000
DTEND;TZID=Asia/Muscat:20240815T170000
DTSTAMP:20240908T081845Z
URL:https://lpi-edu.com/events/%d8%aa%d9%86%d9%85%d9%8a%d8%a9-%d8%a7%d9%84
 %d9%85%d9%87%d8%a7%d8%b1%d8%a7%d8%aa-%d8%a7%d9%84%d8%a5%d8%af%d8%a7%d8%b1%
 d9%8a%d8%a9-%d9%88%d8%a7%d9%84%d8%b3%d9%84%d9%88%d9%83%d9%8a%d8%a9/
SUMMARY:تنمية المهارات الإدارية والسلوكية
DESCRIPTION:يرجى التواصل معنا لتزويدكم بالعرض 
 الفني والمالي للبرنامج
ATTACH;FMTTYPE=image/jpeg:https://lpi-edu.com/wp-content/uploads/2023/11/A
 rtboard-1-100.jpg
CATEGORIES:Expired
END:VEVENT
BEGIN:VTIMEZONE
TZID:Asia/Muscat
X-LIC-LOCATION:Asia/Muscat
BEGIN:STANDARD
DTSTART:20230812T130000
TZOFFSETFROM:+0400
TZOFFSETTO:+0400
TZNAME:+04
END:STANDARD
END:VTIMEZONE
END:VCALENDAR