BEGIN:VCALENDAR
VERSION:2.0
PRODID:-//wp-events-plugin.com//7.0.4//EN
TZID:Asia/Muscat
X-WR-TIMEZONE:Asia/Muscat
BEGIN:VEVENT
UID:11@lpi-edu.com
DTSTART;TZID=Asia/Muscat:20250223T080000
DTEND;TZID=Asia/Muscat:20250227T150000
DTSTAMP:20250416T183311Z
URL:https://lpi-edu.com/events/%d8%aa%d9%86%d9%85%d9%8a%d8%a9-%d8%a7%d9%84
 %d9%85%d9%87%d8%a7%d8%b1%d8%a7%d8%aa-%d8%a7%d9%84%d8%a7%d8%af%d8%a7%d8%b1%
 d9%8a%d8%a9-%d9%88%d8%a7%d9%84%d8%b3%d9%84%d9%88%d9%83%d9%8a%d8%a9/
SUMMARY:Project Management Professional (Arabic)
DESCRIPTION:PMP course has excellence meets efficiency. This comprehensive 
 program is designed to equip professionals with the skills and knowledge n
 eeded to excel in the dynamic field of project management. From strategic 
 planning to execution and delivery\, it will provide a robust framework\, 
 fostering leadership and proficiency. Join us on a transformative journey\
 , where you'll gain the expertise to lead projects successfully and elevat
 e your career to new heights.\n\nPlease contact us to provide more details
ATTACH;FMTTYPE=image/jpeg:https://lpi-edu.com/wp-content/uploads/2023/11/A
 rtboard-5-100.jpg
CATEGORIES:Expired
END:VEVENT
BEGIN:VTIMEZONE
TZID:Asia/Muscat
X-LIC-LOCATION:Asia/Muscat
BEGIN:STANDARD
DTSTART:20240224T080000
TZOFFSETFROM:+0400
TZOFFSETTO:+0400
TZNAME:+04
END:STANDARD
END:VTIMEZONE
END:VCALENDAR