BEGIN:VCALENDAR
VERSION:2.0
PRODID:-//wp-events-plugin.com//7.0.4//EN
TZID:Asia/Muscat
X-WR-TIMEZONE:Asia/Muscat
BEGIN:VEVENT
UID:34@lpi-edu.com
DTSTART;TZID=Asia/Muscat:20240929T090000
DTEND;TZID=Asia/Muscat:20241003T130000
DTSTAMP:20241110T101124Z
URL:https://lpi-edu.com/events/%d8%aa%d9%86%d9%85%d9%8a%d8%a9-%d8%a7%d9%84
 %d9%85%d9%87%d8%a7%d8%b1%d8%aa-%d8%a7%d9%84%d8%a7%d8%af%d8%a7%d8%b1%d9%8a%
 d8%a9-%d9%88%d8%a7%d9%84%d8%a7%d8%b4%d8%b1%d8%a7%d9%81%d9%8a%d8%a9/
SUMMARY:تنمية المهارت الادارية والاشرافية - (
 ورشة عمل)
DESCRIPTION:أهداف الورشة:\n\n 	التعريف بأهمية دو
 ر الإشراف والمتابعة ومدى تأثيرها على نجا
 ح وتطوير المؤسسة، .\n 	تزويد المشاركين بال
 معارف الأساسية فى مجال الإدارة والإشراف
 ، والفرق بين الدور الإشرافي والدور التشغ
 يلي .\n 	شرح كيفية وضع الأهداف ومراقبتها و
 إدارة الأداء لتحقيق التميز.\n 	تطبيق التح
 سين المستمر فى العمل (كايزن اليابانية) .\n 
 	تنمية المعارف حول مفاهيم الأداء والكفاء
 ة والفعالية.\n 	كيفية تعديل السلوكيات الإ
 دارية والشخصية بما يتيح القدرة على التعا
 مل الفعال مع الآخرين.\n 	أساليب التفكير ال
 ابتكاري وآليات توفير بيئة عمل إبداعية.\n 	
 تنمية المهارات الذهنية والسلوكية في تشخ
 يص وحل المشكلات والتعامل مع ضغوط العمل .\n
  	كفاءة وفعالية المهام الإشرافية وإعداد 
 الاستراتيجيات الإبداعية في العمل.\n 	تطبي
 ق التميز في الأداء والتنظيم والإشراف وتس
 يير العمل بكفاءة.\n\nيرجى التواصل معنا لتز
 ويدكم بالعرض الفني والمالي للبرنامج
ATTACH;FMTTYPE=image/jpeg:https://lpi-edu.com/wp-content/uploads/2023/11/A
 rtboard-5-100.jpg
CATEGORIES:Expired
LOCATION:Dubai\, Dubai\, Dubai\, UAE\, United Arab Emirates
X-APPLE-STRUCTURED-LOCATION;VALUE=URI;X-ADDRESS=Dubai\, Dubai\, UAE\, Unite
 d Arab Emirates;X-APPLE-RADIUS=100;X-TITLE=Dubai:geo:0,0
END:VEVENT
BEGIN:VTIMEZONE
TZID:Asia/Muscat
X-LIC-LOCATION:Asia/Muscat
BEGIN:STANDARD
DTSTART:20230930T090000
TZOFFSETFROM:+0400
TZOFFSETTO:+0400
TZNAME:+04
END:STANDARD
END:VTIMEZONE
END:VCALENDAR