BEGIN:VCALENDAR
VERSION:2.0
PRODID:-//wp-events-plugin.com//7.0.4//EN
TZID:Asia/Muscat
X-WR-TIMEZONE:Asia/Muscat
BEGIN:VEVENT
UID:33@lpi-edu.com
DTSTART;TZID=Asia/Muscat:20241103T080000
DTEND;TZID=Asia/Muscat:20241107T133000
DTSTAMP:20250126T052719Z
URL:https://lpi-edu.com/events/%d8%ae%d8%b7%d8%a9-%d8%a7%d9%84%d8%aa%d8%b3
 %d9%88%d9%8a%d9%82-%d8%a7%d9%84%d8%a7%d8%b3%d8%aa%d8%b1%d8%a7%d8%aa%d9%8a%
 d8%ac%d9%8a%d8%a9/
SUMMARY:خطة التسويق الاستراتيجية
DESCRIPTION:تغطية عدة جوانب لخطة التسويق والتر
 ويج: مثل المزيج التسويقي والتحليل السوقي
  وتحديد الشرائح السوقية المستهدفة ووضع خ
 طة تسويق استراتيجية. بذلك نحن بحاجة لدور
 ة تدريبية لجميع العمليات ابتداءً من مرحل
 ة التحضير وحتى تنفيذ الخطة التسويقية إلى
  تقييم مدى نجاح الجهود التسويقية للمؤسسة
 \n\n&nbsp\;\n\nأهداف  البرنامج:\n\nيتمكن المشارك
 ون في نهاية الدورة من:\n\n 	اتباع وتنفيذ ال
 خطوات العملية لإنتاج خطة تسويقية فعالة\n 
 	وضع الخطة التسويقية التي تستند إلى نتائ
 ج التدقيق التسويقي\n 	استخدام نتائج التدق
 يق التسويقي لتحديد الاستراتيجيات والتقن
 يات الفعالة\n 	تطوير عناصر خطة التسويق ال
 استراتيجية\n 	تحديد وتنفيذ استراتيجيات ا
 لمنافسة التسويقية المختلفة (الهجومية وا
 لدفاعية والمناورة)\n\nيرجى التواصل معنا ل
 تزويدكم بالعرض الفني والمالي للبرنامج
ATTACH;FMTTYPE=image/jpeg:https://lpi-edu.com/wp-content/uploads/2023/11/A
 rtboard-2-100.jpg
CATEGORIES:Expired
LOCATION:LPi Institute\, Muscat\, St 99\, Al Jami Al Akbar St\,  Galla\, Pe
 arl Tower\, 3rd Floor\, Muscat\, 900\, Oman
X-APPLE-STRUCTURED-LOCATION;VALUE=URI;X-ADDRESS=Muscat\, St 99\, Al Jami Al
  Akbar St\,  Galla\, Pearl Tower\, 3rd Floor\, Muscat\, 900\, Oman;X-APPLE
 -RADIUS=100;X-TITLE=LPi Institute:geo:0,0
END:VEVENT
BEGIN:VTIMEZONE
TZID:Asia/Muscat
X-LIC-LOCATION:Asia/Muscat
BEGIN:STANDARD
DTSTART:20231104T080000
TZOFFSETFROM:+0400
TZOFFSETTO:+0400
TZNAME:+04
END:STANDARD
END:VTIMEZONE
END:VCALENDAR