BEGIN:VCALENDAR
VERSION:2.0
PRODID:-//wp-events-plugin.com//7.0.4//EN
TZID:Asia/Muscat
X-WR-TIMEZONE:Asia/Muscat
BEGIN:VEVENT
UID:12@lpi-edu.com
DTSTART;TZID=Asia/Muscat:20231203T080000
DTEND;TZID=Asia/Muscat:20231205T120000
DTSTAMP:20240624T100028Z
URL:https://lpi-edu.com/events/%d9%81%d9%86-%d8%a7%d9%84%d8%a7%d8%aa%d9%8a
 %d9%83%d9%8a%d8%aa/
SUMMARY:The Art of Etiquette:
DESCRIPTION:Good business etiquette improve organizational culture and have
  a profound impact on the success and growth of the organization. They hel
 p build stronger relationships and demonstrate confidence. They also promo
 te cross-cultural awareness and respect. The success of an organization is
  determined by the business etiquette that employees follow.
ATTACH;FMTTYPE=image/jpeg:https://lpi-edu.com/wp-content/uploads/2023/11/A
 rtboard-5-100.jpg
CATEGORIES:Expired
END:VEVENT
BEGIN:VTIMEZONE
TZID:Asia/Muscat
X-LIC-LOCATION:Asia/Muscat
BEGIN:STANDARD
DTSTART:20221203T080000
TZOFFSETFROM:+0400
TZOFFSETTO:+0400
TZNAME:+04
END:STANDARD
END:VTIMEZONE
END:VCALENDAR