BEGIN:VCALENDAR
VERSION:2.0
PRODID:-//wp-events-plugin.com//7.0.4//EN
TZID:Asia/Muscat
X-WR-TIMEZONE:Asia/Muscat
BEGIN:VEVENT
UID:27@lpi-edu.com
DTSTART;TZID=Asia/Muscat:20240811T130000
DTEND;TZID=Asia/Muscat:20240815T170000
DTSTAMP:20240908T082158Z
URL:https://lpi-edu.com/events/%d9%85%d9%87%d8%a7%d8%b1%d8%a7%d8%aa-%d8%a7
 %d9%84%d8%a5%d8%b9%d9%84%d8%a7%d9%85-%d8%a7%d9%84%d8%b1%d9%82%d9%85%d9%8a/
SUMMARY:مهارات الإعلام الرقمي
DESCRIPTION:تم تصميم هذا البرنامج بعناية لتلبي
 ة احتياجات المهنيين الطموحين الذين يسعو
 ن إلى تعزيز قدراتهم وصقل مهاراتهم في هذا 
 المجال الحيوي للاعلام الرقمي. يستند برنا
 مجنا إلى أحدث الممارسات والتقنيات المعت
 مدة في الإعلام الرقمي، ويوفر لكم الأدوات
  والمعرفة اللازمة لتحقيق النجاح والتفوق 
 في بيئة إعلامية رقمية متجددة.\nيهدف هذا ا
 لبرنامج إلى تزويد المشاركين بفهم شامل لم
 فاهيم الإعلام الرقمي، بدءًا من تطور وسائ
 ل الاتصال الجماهيري، مدخل إلى الإعلام ال
 رقمي وفهم الفرق بينه وبين الإعلام التقلي
 دي، وصولًا إلى استراتيجيات التسويق الرق
 مي وصناعة المحتوى الرقمي. ستتعلمون كيفية
  تحليل الجمهور المستهدف، واختيار القنوا
 ت الرقمية المناسبة، وابتكار محتوى جذاب، 
 بالإضافة إلى استخدام الأدوات التحليلية 
 لقياس الأداء وتعديل الاستراتيجيات وفقًا
  لذلك، بالاضافة إلى الفرصة للتعرف التعرف
  على أحدث الاتجاهات والتقنيات في الإعلام
  الرقمي، مثل التسويق عبر وسائل التواصل ا
 لاجتماعي، التسويق بالمحتوى، والإعلانات 
 الرقمية. كما سنركز على أهمية القيم الأخل
 اقية والمهنية في الإعلام الرقمي، وضمان أ
 ن تكون ممارساتكم متوافقة مع المعايير الأ
 خلاقية والمهنية العالمية.\nيرجى التواصل 
 معنا لتزويدكم بالعرض الفني والمالي للبر
 نامج
ATTACH;FMTTYPE=image/jpeg:https://lpi-edu.com/wp-content/uploads/2023/11/A
 rtboard-3-100.jpg
CATEGORIES:Expired
END:VEVENT
BEGIN:VTIMEZONE
TZID:Asia/Muscat
X-LIC-LOCATION:Asia/Muscat
BEGIN:STANDARD
DTSTART:20230812T130000
TZOFFSETFROM:+0400
TZOFFSETTO:+0400
TZNAME:+04
END:STANDARD
END:VTIMEZONE
END:VCALENDAR