BEGIN:VCALENDAR
VERSION:2.0
PRODID:-//wp-events-plugin.com//7.0.4//EN
TZID:Asia/Muscat
X-WR-TIMEZONE:Asia/Muscat
BEGIN:VEVENT
UID:13@lpi-edu.com
DTSTART;TZID=Asia/Muscat:20231203T080000
DTEND;TZID=Asia/Muscat:20231205T120000
DTSTAMP:20240624T100028Z
URL:https://lpi-edu.com/events/%d9%85%d9%87%d8%a7%d8%b1%d8%a7%d8%aa-%d8%a7
 %d9%84%d8%b9%d9%85%d9%84-%d8%a7%d9%84%d8%ac%d9%85%d8%a7%d8%b9%d9%8a/
SUMMARY:Teamwork Skills
DESCRIPTION:This program is crafted to hone the ability to work seamlessly 
 in diverse teams\, fostering effective communication\, cooperation\, and s
 ynergy.  Discover the art of leveraging individual strengths\, resolving 
 conflicts\, and achieving collective goals. Join us to unlock the power of
  teamwork\, cultivating skills that transcend professional boundaries and 
 propel you towards success in any collaborative endeavor.
ATTACH;FMTTYPE=image/jpeg:https://lpi-edu.com/wp-content/uploads/2023/11/A
 rtboard-1-100.jpg
CATEGORIES:Expired
END:VEVENT
BEGIN:VTIMEZONE
TZID:Asia/Muscat
X-LIC-LOCATION:Asia/Muscat
BEGIN:STANDARD
DTSTART:20221203T080000
TZOFFSETFROM:+0400
TZOFFSETTO:+0400
TZNAME:+04
END:STANDARD
END:VTIMEZONE
END:VCALENDAR