BEGIN:VCALENDAR
VERSION:2.0
PRODID:-//wp-events-plugin.com//7.0.4//EN
TZID:Asia/Muscat
X-WR-TIMEZONE:Asia/Muscat
BEGIN:VEVENT
UID:59@lpi-edu.com
DTSTART;TZID=Asia/Muscat:20250810T090000
DTEND;TZID=Asia/Muscat:20250814T130000
DTSTAMP:20250821T104307Z
URL:https://lpi-edu.com/events/ai-%d8%aa%d8%b7%d8%a8%d9%8a%d9%82%d8%a7%d8%
 aa-%d8%a7%d9%84%d8%b0%d9%83%d8%a7%d8%a1-%d8%a7%d9%84%d8%b5%d9%86%d8%a7%d8%
 b9%d9%8a-%d9%81%d9%8a-%d8%a8%d9%8a%d8%a6%d8%a9-%d8%a7%d9%84%d8%b9%d9%85%d9
 %84/
SUMMARY:AI تطبيقات الذكاء الصناعي في بيئة الع
 مل
DESCRIPTION:يهدف هذا النوع من البرامج التدريبي
 ة إلى تمكين المشاركين من الاستفادة العمل
 ية من أدوات وتقنيات الذكاء الاصطناعي.\nمق
 دمة سريعة للذكاء الاصطناعي وتأثيره العم
 لي:\nفهم مبسط لما هو الذكاء الاصطناعي، وك
 يف يغير طريقة عملنا.\nأمثلة واقعية لتطبيق
 ات الذكاء الاصطناعي حولنا وفي بيئات العم
 ل.\nالتركيز على الفرص التي يخلقها الذكاء 
 الاصطناعي لزيادة الكفاءة والإنتاجية.\nال
 تعرف على أدوات الذكاء الاصطناعي الجاهزة 
 للاستخدام:\nاستعراض شامل لأبرز أدوات الذ
 كاء الاصطناعي المتاحة التي يمكن استخدام
 ها مباشرة، مثل:\nأدوات معالجة اللغة الطبي
 عية (NLP): مثل ChatGPT، أو أي نماذج لغوية كبيرة 
 (LLMs) أخرى لإنشاء المحتوى، تلخيص النصوص، ص
 ياغة رسائل البريد الإلكتروني، وكتابة ال
 تقارير.\nأدوات إنشاء الصور والفيديوهات: م
 ثل ، Canva AI، أو أدوات تحويل النص إلى فيديو،
  لتحسين العروض التقديمية والمواد التسوي
 قية.\nأدوات تحليل البيانات المرئية: في بر
 امج مثل Excel، Power BI، أو Google Sheets لتبسيط تحلي
 ل البيانات وتوليد الرسوم البيانية.\nأدوا
 ت أتمتة المهام (RPA): لمقدمة بسيطة حول كيفي
 ة أتمتة المهام المتكررة (مثل إدخال البيا
 نات أو تنظيم الملفات).\nأدوات إدارة المشا
 ريع المدعومة بالذكاء الاصطناعي: التي تسا
 عد في الجدولة، وتوزيع المهام، وتتبع التق
 دم.\nتطبيقات عملية وممارسات مكثفة:\nتحسين 
 التواصل والكتابة:\nصياغة رسائل بريد إلكت
 روني احترافية وتقارير سريعة.\nإنشاء مسود
 ات أولية للمحتوى التسويقي أو النصوص الدا
 خلية.\nتلخيص المستندات الطويلة واستخلاص 
 النقاط الرئيسية.\nتحليل البيانات واتخاذ 
 القرار:\nاستخدام الذكاء الاصطناعي لاستخل
 اص الرؤى من البيانات دون الحاجة لمهارات 
 تحليلية متقدمة.\nتوليد الرسوم البيانية و
 الجداول التوضيحية.\nالتنبؤات البسيطة للا
 تجاهات المستقبلية.\nزيادة الإبداع والإنت
 اجية:\nتوليد أفكار جديدة للمشاريع، المنت
 جات، أو حملات التسويق.\nتصميم عروض تقديمي
 ة جذابة بسرعة.\nأتمتة المهام الروتينية لت
 ركيز الوقت على المهام الاستراتيجية.\nخدم
 ة العملاء والدعم:\nفهم كيفية عمل روبوتات 
 الدردشة الأساسية وكيف يمكنها المساعدة ف
 ي خدمة العملاء.\nورش عمل وتحديات تطبيقية:\
 nتخصيص جلسات تطبيق عملي على الأدوات المذ
 كورة.\nحل مشكلات عمل واقعية باستخدام تقني
 ات الذكاء الاصطناعي.\nمشاريع صغيرة للمشا
 ركين لتطبيق ما تعلموه.\nأخلاقيات الذكاء ا
 لاصطناعي والتعامل الآمن:\nأهمية التحقق م
 ن المعلومات المولدة بواسطة الذكاء الاصط
 ناعي.\nالتعامل مع قضايا الخصوصية والأمان 
 عند استخدام أدوات الذكاء الاصطناعي.\nفهم 
 قيود الذكاء الاصطناعي وما لا يمكنه فعله 
 بعد.\n\n\n\nهذا البرنامج يركز على تزويد المش
 اركين بالمهارات العملية الفورية لدمج ال
 ذكاء الاصطناعي في سير عملهم اليومي، مما 
 يعزز كفاءتهم وابتكارهم.
ATTACH;FMTTYPE=image/jpeg:https://lpi-edu.com/wp-content/uploads/2023/11/A
 rtboard-6-100.jpg
CATEGORIES:Expired
END:VEVENT
BEGIN:VTIMEZONE
TZID:Asia/Muscat
X-LIC-LOCATION:Asia/Muscat
BEGIN:STANDARD
DTSTART:20240810T090000
TZOFFSETFROM:+0400
TZOFFSETTO:+0400
TZNAME:+04
END:STANDARD
END:VTIMEZONE
END:VCALENDAR