BEGIN:VCALENDAR
VERSION:2.0
PRODID:-//wp-events-plugin.com//7.0.4//EN
TZID:Asia/Muscat
X-WR-TIMEZONE:Asia/Muscat
BEGIN:VEVENT
UID:37@lpi-edu.com
DTSTART;TZID=Asia/Muscat:20241201T080000
DTEND;TZID=Asia/Muscat:20241205T140000
DTSTAMP:20250126T052826Z
URL:https://lpi-edu.com/events/asp-net/
SUMMARY:ASP.Net
DESCRIPTION:ASP.NET is a free\, open-source web development framework creat
 ed by Microsoft. It’s built on top of .NET\, a web development platform 
 with multiple tools\, libraries\, and programming languages that help prog
 rammers build various applications.\nASP.NET is simply an extension of .NE
 T\, comprising additional features to optimize the platform.\nBut what is 
 an ASP\, and what does it have to do with the ASP.NET framework? ASP stand
 s for “Active Server Page” and is Microsoft’s first server-side scri
 pting language. Its primary purpose was to generate interactive and dynami
 c web pages for users. It evolved to ASP.NET in 2002\, providing more capa
 bilities to fit developers’ ever-changing needs.\nASP.NET Core is its mo
 st recent improvement. This updated framework helps programmers build clou
 d-based web apps on Windows\, macOS\, and Linux.\nPlease contact us to pro
 vide more details
ATTACH;FMTTYPE=image/jpeg:https://lpi-edu.com/wp-content/uploads/2023/11/A
 rtboard-6-100.jpg
CATEGORIES:Expired
LOCATION:LPi Institute\, Muscat\, St 99\, Al Jami Al Akbar St\,  Galla\, Pe
 arl Tower\, 3rd Floor\, Muscat\, 900\, Oman
X-APPLE-STRUCTURED-LOCATION;VALUE=URI;X-ADDRESS=Muscat\, St 99\, Al Jami Al
  Akbar St\,  Galla\, Pearl Tower\, 3rd Floor\, Muscat\, 900\, Oman;X-APPLE
 -RADIUS=100;X-TITLE=LPi Institute:geo:0,0
END:VEVENT
BEGIN:VTIMEZONE
TZID:Asia/Muscat
X-LIC-LOCATION:Asia/Muscat
BEGIN:STANDARD
DTSTART:20231202T080000
TZOFFSETFROM:+0400
TZOFFSETTO:+0400
TZNAME:+04
END:STANDARD
END:VTIMEZONE
END:VCALENDAR