BEGIN:VCALENDAR
VERSION:2.0
PRODID:-//wp-events-plugin.com//7.0.4//EN
TZID:Asia/Muscat
X-WR-TIMEZONE:Asia/Muscat
BEGIN:VEVENT
UID:63@lpi-edu.com
DTSTART;TZID=Asia/Muscat:20260419T080000
DTEND;TZID=Asia/Muscat:20260430T140000
DTSTAMP:20260316T080942Z
URL:https://lpi-edu.com/events/ccna-cisco-certified-network-associate/
SUMMARY:CCNA (Cisco Certified Network Associate)
DESCRIPTION:Cisco Certified Network Associate (CCNA) is an industry-leading
  certification that provides foundational knowledge in networking\, securi
 ty\, automation\, and IT infrastructure. This course equips learners with 
 practical skills in configuring\, managing\, and troubleshooting networks\
 , preparing them for real-world IT environments. Designed for beginners an
 d aspiring network professionals\, the CCNA certification opens career pat
 hs such as Network Administrator\, Network Engineer\, and IT Support Speci
 alist.
ATTACH;FMTTYPE=image/jpeg:https://lpi-edu.com/wp-content/uploads/2025/08/C
 CNA.webp
CATEGORIES:Upcoming
LOCATION:LPi Institute\, Muscat\, St 99\, Al Jami Al Akbar St\,  Galla\, Pe
 arl Tower\, 3rd Floor\, Muscat\, 900\, Oman
X-APPLE-STRUCTURED-LOCATION;VALUE=URI;X-ADDRESS=Muscat\, St 99\, Al Jami Al
  Akbar St\,  Galla\, Pearl Tower\, 3rd Floor\, Muscat\, 900\, Oman;X-APPLE
 -RADIUS=100;X-TITLE=LPi Institute:geo:0,0
END:VEVENT
BEGIN:VTIMEZONE
TZID:Asia/Muscat
X-LIC-LOCATION:Asia/Muscat
BEGIN:STANDARD
DTSTART:20250419T080000
TZOFFSETFROM:+0400
TZOFFSETTO:+0400
TZNAME:+04
END:STANDARD
END:VTIMEZONE
END:VCALENDAR