BEGIN:VCALENDAR
VERSION:2.0
PRODID:-//wp-events-plugin.com//7.0.4//EN
TZID:Asia/Muscat
X-WR-TIMEZONE:Asia/Muscat
BEGIN:VEVENT
UID:44@lpi-edu.com
DTSTART;TZID=Asia/Muscat:20250203T090000
DTEND;TZID=Asia/Muscat:20250214T130000
DTSTAMP:20250416T185636Z
URL:https://lpi-edu.com/events/certified-associate-in-project-management/
SUMMARY:Certified Associate in Project Management
DESCRIPTION:\n\nThe CAPM Certification is a globally recognized credential 
 designed for individuals starting their careers in project management or l
 ooking to add project management skills to their current roles. Offered by
  PMI\, this course equips you with the foundational knowledge and skills t
 o excel in managing projects effectively.\nWhat You’ll Learn\n\n 	Projec
 t Management Fundamentals:\n\n 	Understand the basics of project managemen
 t and its importance in achieving organizational goals.\n 	Learn about the
  PMI framework and its applications.\n\n\n 	Project Management Processes a
 nd Knowledge Areas:\n\n 	Deep dive into the PMBOK® Guide (Project Managem
 ent Body of Knowledge).\n 	Master the five process groups: Initiating\, Pl
 anning\, Executing\, Monitoring &amp\; Controlling\, and Closing.\n\n\n 	R
 oles and Responsibilities of a Project Manager:\n\n 	Explore key project r
 oles\, leadership qualities\, and stakeholder management.\n\n\n 	Tools and
  Techniques:\n\n 	Gain practical knowledge of project scheduling\, risk ma
 nagement\, cost control\, and quality assurance.\n\n\n 	Project Documentat
 ion and Communication:\n\n 	Learn how to create effective project plans\, 
 status reports\, and communication strategies.\n\n\n\nBenefits of CAPM Cer
 tification\n\n 	Gain a competitive edge in the job market.\n 	Demonstrate 
 your project management expertise to employers.\n 	Lay the foundation for 
 advanced certifications like PMP®.\n\n\nPlease contact us to provide more
  details
ATTACH;FMTTYPE=image/jpeg:https://lpi-edu.com/wp-content/uploads/2023/11/A
 rtboard-5-100.jpg
CATEGORIES:Expired
END:VEVENT
BEGIN:VTIMEZONE
TZID:Asia/Muscat
X-LIC-LOCATION:Asia/Muscat
BEGIN:STANDARD
DTSTART:20240204T090000
TZOFFSETFROM:+0400
TZOFFSETTO:+0400
TZNAME:+04
END:STANDARD
END:VTIMEZONE
END:VCALENDAR