BEGIN:VCALENDAR
VERSION:2.0
PRODID:-//wp-events-plugin.com//7.0.4//EN
TZID:Asia/Muscat
X-WR-TIMEZONE:Asia/Muscat
BEGIN:VEVENT
UID:67@lpi-edu.com
DTSTART;TZID=Asia/Muscat:20260419T080000
DTEND;TZID=Asia/Muscat:20260423T150000
DTSTAMP:20260316T082714Z
URL:https://lpi-edu.com/events/certified-ethical-hacker-ceh-v13/
SUMMARY:Certified Ethical Hacker (CEH) V13
DESCRIPTION:As an Accredited Training Center (ATC) of EC-Council\, we proud
 ly deliver the latest Certified Ethical Hacker v13 (CEH v13) program. This
  globally recognized certification validates advanced skills in identifyin
 g vulnerabilities\, assessing risks\, and applying ethical hacking techniq
 ues. The v13 edition introduces AI in Cybersecurity\, ensuring participant
 s gain cutting-edge knowledge to secure modern digital environments. The c
 ourse prepares candidates with real-world tools and methodologies to stren
 gthen organizational security and succeed in the official CEH v13 exam.\nC
 ourse Outline (Key Topics)\n\n 	\nIntroduction to Ethical Hacking &amp\; I
 nformation Security\n\n 	\nFootprinting\, Reconnaissance &amp\; Scanning N
 etworks\n\n 	\nEnumeration &amp\; Vulnerability Analysis\n\n 	\nSystem Hac
 king &amp\; Malware Threats\n\n 	\nSniffing\, Social Engineering &amp\; De
 nial of Service\n\n 	\nSession Hijacking &amp\; Web Application Hacking\n\
 n 	\nSQL Injection &amp\; Wireless Network Attacks\n\n 	\nIoT &amp\; Cloud
  Security\n\n 	\nAI in Cybersecurity &amp\; Emerging Threats\n\n 	\nCrypto
 graphy &amp\; Security Countermeasures\n\n 	\nHands-on Labs &amp\; CEH v13
  Exam Preparation\n\n
ATTACH;FMTTYPE=image/jpeg:https://lpi-edu.com/wp-content/uploads/2025/09/C
 EH_Badge.webp
CATEGORIES:Upcoming
LOCATION:LPi Institute\, Muscat\, St 99\, Al Jami Al Akbar St\,  Galla\, Pe
 arl Tower\, 3rd Floor\, Muscat\, 900\, Oman
X-APPLE-STRUCTURED-LOCATION;VALUE=URI;X-ADDRESS=Muscat\, St 99\, Al Jami Al
  Akbar St\,  Galla\, Pearl Tower\, 3rd Floor\, Muscat\, 900\, Oman;X-APPLE
 -RADIUS=100;X-TITLE=LPi Institute:geo:0,0
END:VEVENT
BEGIN:VTIMEZONE
TZID:Asia/Muscat
X-LIC-LOCATION:Asia/Muscat
BEGIN:STANDARD
DTSTART:20250419T080000
TZOFFSETFROM:+0400
TZOFFSETTO:+0400
TZNAME:+04
END:STANDARD
END:VTIMEZONE
END:VCALENDAR