BEGIN:VCALENDAR
VERSION:2.0
PRODID:-//wp-events-plugin.com//7.0.4//EN
TZID:Asia/Muscat
X-WR-TIMEZONE:Asia/Muscat
BEGIN:VEVENT
UID:68@lpi-edu.com
DTSTART;TZID=Asia/Muscat:20251026T080000
DTEND;TZID=Asia/Muscat:20251030T140000
DTSTAMP:20260316T101243Z
URL:https://lpi-edu.com/events/certified-iso-iec-27001-provisional-impleme
 nter/
SUMMARY:Certified ISO/IEC 27001 (Provisional Implementer)
DESCRIPTION:As a PECB Authorized Partner\, we deliver the official ISO/IEC 
 27001 Provisional Implementer training. This course equips participants wi
 th the knowledge and practical skills needed to initiate\, implement\, and
  manage an Information Security Management System (ISMS) based on ISO/IEC 
 27001 standards. It is ideal for professionals aiming to contribute to the
  security and resilience of organizations while preparing for the internat
 ionally recognized PECB certification exam.\nCourse Outline (Key Topics)\n
 \n 	\nIntroduction to ISO/IEC 27001 &amp\; ISMS concepts\n\n 	\nUnderstand
 ing organizational context &amp\; leadership roles\n\n 	\nPlanning ISMS: r
 isk assessment &amp\; treatment methodology\n\n 	\nImplementation of infor
 mation security controls\n\n 	\nAwareness\, communication\, and operationa
 l procedures\n\n 	\nMonitoring\, measurement\, evaluation &amp\; internal 
 audit basics\n\n 	\nContinual improvement of the ISMS\n\n 	\nExam preparat
 ion &amp\; certification process\n\n
ATTACH;FMTTYPE=image/jpeg:https://lpi-edu.com/wp-content/uploads/2023/11/A
 rtboard-5-100.jpg
CATEGORIES:Expired
LOCATION:LPi Institute\, Muscat\, St 99\, Al Jami Al Akbar St\,  Galla\, Pe
 arl Tower\, 3rd Floor\, Muscat\, 900\, Oman
X-APPLE-STRUCTURED-LOCATION;VALUE=URI;X-ADDRESS=Muscat\, St 99\, Al Jami Al
  Akbar St\,  Galla\, Pearl Tower\, 3rd Floor\, Muscat\, 900\, Oman;X-APPLE
 -RADIUS=100;X-TITLE=LPi Institute:geo:0,0
END:VEVENT
BEGIN:VTIMEZONE
TZID:Asia/Muscat
X-LIC-LOCATION:Asia/Muscat
BEGIN:STANDARD
DTSTART:20241026T080000
TZOFFSETFROM:+0400
TZOFFSETTO:+0400
TZNAME:+04
END:STANDARD
END:VTIMEZONE
END:VCALENDAR