BEGIN:VCALENDAR
VERSION:2.0
PRODID:-//wp-events-plugin.com//7.0.4//EN
TZID:Asia/Muscat
X-WR-TIMEZONE:Asia/Muscat
BEGIN:VEVENT
UID:51@lpi-edu.com
DTSTART;TZID=Asia/Muscat:20250511T080000
DTEND;TZID=Asia/Muscat:20250522T140000
DTSTAMP:20250715T032222Z
URL:https://lpi-edu.com/events/cisco-certified-network-professional-ccnp/
SUMMARY:CISCO Certified Network Professional (CCNP)
DESCRIPTION:The Cisco Certified Network Professional (CCNP) certification i
 s an advanced-level credential from Cisco\, designed for IT professionals 
 who aspire to deepen their networking knowledge and expertise. This course
  covers core networking technologies along with a specialized concentratio
 n\, equipping learners with the skills to design\, implement\, secure\, an
 d troubleshoot enterprise networks.\nWhether you're advancing your career 
 in network engineering or aiming to lead complex network projects\, the CC
 NP certification validates your ability to manage today’s dynamic IT env
 ironments.\n\n\nWhat You Will Learn:\nCore Topics (CCNP Enterprise - ENCOR
  350-401):\n\n\n 	\nDual-stack architecture (IPv4 and IPv6)\n\n 	\nVirtual
 ization\, automation\, and programmability\n\n 	\nNetwork assurance and se
 curity\n\n 	\nEnterprise infrastructure: routing\, switching\, wireless\n\
 n\nConcentration Options (choose one for certification):\n\n\n 	\nAdvanced
  routing (ENARSI 300-410)\n\n 	\nSD-WAN\, wireless design\, automation\, o
 r security focus\n\n
ATTACH;FMTTYPE=image/jpeg:https://lpi-edu.com/wp-content/uploads/2023/11/A
 rtboard-6-100.jpg
CATEGORIES:Expired
END:VEVENT
BEGIN:VTIMEZONE
TZID:Asia/Muscat
X-LIC-LOCATION:Asia/Muscat
BEGIN:STANDARD
DTSTART:20240511T080000
TZOFFSETFROM:+0400
TZOFFSETTO:+0400
TZNAME:+04
END:STANDARD
END:VTIMEZONE
END:VCALENDAR