BEGIN:VCALENDAR
VERSION:2.0
PRODID:-//wp-events-plugin.com//7.0.4//EN
TZID:Asia/Muscat
X-WR-TIMEZONE:Asia/Muscat
BEGIN:VEVENT
UID:38@lpi-edu.com
DTSTART;TZID=Asia/Muscat:20241201T080000
DTEND;TZID=Asia/Muscat:20241205T140000
DTSTAMP:20250126T052821Z
URL:https://lpi-edu.com/events/cissp/
SUMMARY:CISSP
DESCRIPTION:The Certified Information Systems Security Professional (CISSP)
  is the most globally recognized certification\nin the information securit
 y market. CISSP validates an information security professional’s deep te
 chnical\nand managerial knowledge and experience to effectively design\, e
 ngineer\, and manage the overall security\nposture of an organization.\nTh
 e broad spectrum of topics included in the CISSP body of knowledge ensure 
 its relevancy across all\ndisciplines in the field of information security
 . Successful candidates are competent in the following\neight domains:\n
 • Security and Risk Management\n• Asset Security\n• Security Archite
 cture and Engineering\n• Communication and Network Security\n• Identit
 y and Access Management (IAM)\n• Security Assessment and Testing\n• Se
 curity Operations\n• Software Development Security\n\nPlease contact us 
 to provide more details
ATTACH;FMTTYPE=image/jpeg:https://lpi-edu.com/wp-content/uploads/2023/11/A
 rtboard-6-100.jpg
CATEGORIES:Expired
LOCATION:LPi Institute\, Muscat\, St 99\, Al Jami Al Akbar St\,  Galla\, Pe
 arl Tower\, 3rd Floor\, Muscat\, 900\, Oman
X-APPLE-STRUCTURED-LOCATION;VALUE=URI;X-ADDRESS=Muscat\, St 99\, Al Jami Al
  Akbar St\,  Galla\, Pearl Tower\, 3rd Floor\, Muscat\, 900\, Oman;X-APPLE
 -RADIUS=100;X-TITLE=LPi Institute:geo:0,0
END:VEVENT
BEGIN:VTIMEZONE
TZID:Asia/Muscat
X-LIC-LOCATION:Asia/Muscat
BEGIN:STANDARD
DTSTART:20231202T080000
TZOFFSETFROM:+0400
TZOFFSETTO:+0400
TZNAME:+04
END:STANDARD
END:VTIMEZONE
END:VCALENDAR