BEGIN:VCALENDAR
VERSION:2.0
PRODID:-//wp-events-plugin.com//7.0.4//EN
TZID:Asia/Muscat
X-WR-TIMEZONE:Asia/Muscat
BEGIN:VEVENT
UID:19@lpi-edu.com
DTSTART;TZID=Asia/Muscat:20241020T080000
DTEND;TZID=Asia/Muscat:20241031T140000
DTSTAMP:20241110T100933Z
URL:https://lpi-edu.com/events/comptia-a/
SUMMARY:CompTIA A+
DESCRIPTION:CompTIA A+ certified professionals are proven problem solvers. 
 They support today’s core technologies\nfrom security to cloud to data m
 anagement and more. CompTIA A+ is the industry standard for launching\nIT 
 careers into today’s digital world.\n• The only credential with perfor
 mance-based items to prove pros can think on their feet to perform\ncritic
 al IT support tasks in the moment\n• Trusted by employers around the wor
 ld to identify the go-to person in end point management &amp\;\ntechnical 
 support roles\n• Regularly re-invented by IT experts to ensure that it v
 alidates core skills and abilities demanded in\nthe workplace\n\nPlease co
 ntact us to provide more details
ATTACH;FMTTYPE=image/jpeg:https://lpi-edu.com/wp-content/uploads/2023/11/A
 rtboard-6-100.jpg
CATEGORIES:Expired
LOCATION:LPi Institute\, Muscat\, St 99\, Al Jami Al Akbar St\,  Galla\, Pe
 arl Tower\, 3rd Floor\, Muscat\, 900\, Oman
X-APPLE-STRUCTURED-LOCATION;VALUE=URI;X-ADDRESS=Muscat\, St 99\, Al Jami Al
  Akbar St\,  Galla\, Pearl Tower\, 3rd Floor\, Muscat\, 900\, Oman;X-APPLE
 -RADIUS=100;X-TITLE=LPi Institute:geo:0,0
END:VEVENT
BEGIN:VTIMEZONE
TZID:Asia/Muscat
X-LIC-LOCATION:Asia/Muscat
BEGIN:STANDARD
DTSTART:20231021T080000
TZOFFSETFROM:+0400
TZOFFSETTO:+0400
TZNAME:+04
END:STANDARD
END:VTIMEZONE
END:VCALENDAR