BEGIN:VCALENDAR
VERSION:2.0
PRODID:-//wp-events-plugin.com//7.0.4//EN
TZID:Asia/Muscat
X-WR-TIMEZONE:Asia/Muscat
BEGIN:VEVENT
UID:62@lpi-edu.com
DTSTART;TZID=Asia/Muscat:20251026T080000
DTEND;TZID=Asia/Muscat:20251030T140000
DTSTAMP:20260316T101200Z
URL:https://lpi-edu.com/events/comptia-cysa/
SUMMARY:CompTIA CySA+
DESCRIPTION:As a CompTIA Authorized Partner\, we offer the official CompTIA
  CySA+ (Cybersecurity Analyst) training. This certification validates the 
 knowledge and skills needed to apply behavioral analytics to networks and 
 devices to prevent\, detect\, and combat cybersecurity threats. CySA+ is a
  globally recognized\, performance-based certification that bridges the ga
 p between entry-level and advanced security certifications\, preparing can
 didates to succeed in the official exam.\nCourse Outline (Key Topics)\n\n 
 	\nThreat and Vulnerability Management\n\n 	\nSoftware and Systems Securit
 y\n\n 	\nSecurity Operations and Monitoring\n\n 	\nIncident Response and R
 ecovery\n\n 	\nCompliance and Assessment\n\n 	\nHands-on labs and practica
 l scenarios\n\n 	\nOfficial CySA+ exam preparation\n\n
ATTACH;FMTTYPE=image/jpeg:https://lpi-edu.com/wp-content/uploads/2023/11/A
 rtboard-6-100.jpg
CATEGORIES:Expired
LOCATION:LPi Institute\, Muscat\, St 99\, Al Jami Al Akbar St\,  Galla\, Pe
 arl Tower\, 3rd Floor\, Muscat\, 900\, Oman
X-APPLE-STRUCTURED-LOCATION;VALUE=URI;X-ADDRESS=Muscat\, St 99\, Al Jami Al
  Akbar St\,  Galla\, Pearl Tower\, 3rd Floor\, Muscat\, 900\, Oman;X-APPLE
 -RADIUS=100;X-TITLE=LPi Institute:geo:0,0
END:VEVENT
BEGIN:VTIMEZONE
TZID:Asia/Muscat
X-LIC-LOCATION:Asia/Muscat
BEGIN:STANDARD
DTSTART:20241026T080000
TZOFFSETFROM:+0400
TZOFFSETTO:+0400
TZNAME:+04
END:STANDARD
END:VTIMEZONE
END:VCALENDAR