BEGIN:VCALENDAR
VERSION:2.0
PRODID:-//wp-events-plugin.com//7.0.4//EN
TZID:Asia/Muscat
X-WR-TIMEZONE:Asia/Muscat
BEGIN:VEVENT
UID:58@lpi-edu.com
DTSTART;TZID=Asia/Muscat:20250803T130000
DTEND;TZID=Asia/Muscat:20250807T170000
DTSTAMP:20250821T104238Z
URL:https://lpi-edu.com/events/copilot-office-365-%d8%a7%d9%84%d9%85%d9%87
 %d8%a7%d8%b1%d8%a7%d8%aa-%d8%a7%d9%84%d9%85%d8%aa%d9%82%d8%af%d9%85%d8%a9-
 %d8%a8%d8%a7%d8%b3%d8%aa%d8%ae%d8%af%d8%a7%d9%85/
SUMMARY:Copilot Office 365 المهارات المتقدمة باستخدا
 م
DESCRIPTION:تُركز دورات المهارات المتقدمة لـ Co
 pilot Office 365 على تمكين المستخدمين من الاستف
 ادة القصوى من إمكانات الذكاء الاصطناعي ف
 ي تطبيقات Microsoft 365، وتحويل كيفية إنجاز ال
 مهام اليومية. تتضمن هذه الدورات عادةً ال
 مواضيع التالية:\nمفاهيم أساسية وتطبيقية:\
 nمقدمة متقدمة للذكاء الاصطناعي في مكان ا
 لعمل: فهم أعمق لكيفية دمج الذكاء الاصطنا
 عي في سير العمل اليومي.\nاستخدام Copilot عبر 
 التطبيقات: التعمق في استخدام Copilot في Word وE
 xcel وPowerPoint وOutlook وTeams وOneNote وLoop، مع التركيز
  على الميزات المتقدمة في كل تطبيق.\nهندسة 
 المطالبات (Prompt Engineering): تعلم كيفية صياغة م
 طالبات فعالة للحصول على أفضل النتائج من C
 opilot، بما في ذلك تقنيات المطالبة المتقدمة
 .\nالوكلاء (Agents) و Copilot Studio: استكشاف كيفية إ
 نشاء الوكلاء وتكاملهم مع تطبيقات مثل Micros
 oft Teams و Power Platform لأتمتة المهام المعقدة.\n&nb
 sp\;\nالمهارات المتقدمة في التطبيقات الرئي
 سية:\nMicrosoft Word:\nإنشاء المستندات وتلخيصها 
 وتحسينها باستخدام Copilot، بما في ذلك تحويل 
 النص إلى جداول.\nالعمل مع فواصل المقاطع و
 الأعمدة والرؤوس والتذييلات المتقدمة.\nإن
 شاء أنماط الأحرف والفقرات وتطبيقها وتعد
 يلها.\nإدارة المستندات الرئيسية والمستند
 ات الفرعية.\nاستخدام الإشارات المرجعية و
 الحواشي السفلية والجداول التلقائية للمح
 تويات.\nميزات دمج المراسلات المتقدمة.\nMicro
 soft Excel:\nتحليل البيانات وإنشاء الرسوم الب
 يانية والجداول المحورية باستخدام Copilot.\nت
 وليد صيغ متقدمة وكود OfficeScript بناءً على ال
 مطالبات اللغوية الطبيعية.\nأتمتة المهام 
 مع OfficeScripts و VBA ونداءات API المباشرة.\nاستخد
 ام Copilot لتحليل البيانات باستخدام Python (في 
 بيئات Excel التي تدعم ذلك).\nMicrosoft PowerPoint:\nإنش
 اء عروض تقديمية من مطالبات أو ملفات Word با
 ستخدام قوالب المؤسسة.\nتلخيص العروض التق
 ديمية والأسئلة والأجوبة.\nإضافة شرائح وص
 ور وإجراء تغييرات تنسيق على مستوى العرض 
 التقديمي.\nMicrosoft Outlook:\nتلخيص سلاسل البريد 
 الإلكتروني الطويلة.\nصياغة الردود بشكل ف
 عال.\nإدارة البريد الوارد بذكاء.\nMicrosoft Teams
 :\nتلخيص الاجتماعات والمحادثات.\nالتعاون 
 في الوقت الفعلي مع الوكلاء المدعومين بال
 ذكاء الاصطناعي.\nتحسين سير العمل والتواص
 ل.\nOneDrive و SharePoint و OneNote:\nإدارة المعرفة وتص
 نيفها.\nإنشاء الصفحات وتحريرها.\nاستخلاص 
 الرؤى من الملفات وتلخيصها ومقارنتها.\nاس
 تراتيجيات وتطبيقات الأعمال:\nتحسين الإنت
 اجية باستخدام الذكاء الاصطناعي: تحديد فر
 ص تحسين الإنتاجية وأتمتة المهام في سينار
 يوهات العمل المختلفة.\nاستخدام Copilot في اس
 تراتيجيات التسويق والمبيعات المتقدمة: إ
 نشاء شخصيات العملاء، وحملات التوعية الم
 خصصة، وخطط المحتوى.\nأفضل الممارسات للأم
 ن والامتثال والخصوصية: فهم كيفية استخدام
  Copilot بشكل آمن ومتوافق مع سياسات المؤسسة.
ATTACH;FMTTYPE=image/jpeg:https://lpi-edu.com/wp-content/uploads/2023/11/A
 rtboard-6-100.jpg
CATEGORIES:Expired
END:VEVENT
BEGIN:VTIMEZONE
TZID:Asia/Muscat
X-LIC-LOCATION:Asia/Muscat
BEGIN:STANDARD
DTSTART:20240803T130000
TZOFFSETFROM:+0400
TZOFFSETTO:+0400
TZNAME:+04
END:STANDARD
END:VTIMEZONE
END:VCALENDAR