BEGIN:VCALENDAR
VERSION:2.0
PRODID:-//wp-events-plugin.com//7.0.4//EN
TZID:Asia/Muscat
X-WR-TIMEZONE:Asia/Muscat
BEGIN:VEVENT
UID:14@lpi-edu.com
DTSTART;TZID=Asia/Muscat:20231210T080000
DTEND;TZID=Asia/Muscat:20231214T123000
DTSTAMP:20240624T100028Z
URL:https://lpi-edu.com/events/cybersecurity-fundamentals-isaca/
SUMMARY:Cybersecurity fundamentals
DESCRIPTION:Immerse yourself in a transformative learning experience with C
 ybersecurity Fundamentals course. In this dynamic program\, participants g
 ain a comprehensive understanding of cybersecurity essentials\, equipping 
 them with the skills to navigate the ever-evolving digital landscape. The 
 benefits of this course extend beyond knowledge acquisition\, providing a 
 pathway to enhanced career opportunities\, improved risk management capabi
 lities\, and a robust foundation for tackling the complexities of informat
 ion security. Join us in fortifying your expertise and becoming a vital as
 set in the realm of cybersecurity.
ATTACH;FMTTYPE=image/jpeg:https://lpi-edu.com/wp-content/uploads/2023/11/A
 rtboard-6-100.jpg
CATEGORIES:Expired
END:VEVENT
BEGIN:VTIMEZONE
TZID:Asia/Muscat
X-LIC-LOCATION:Asia/Muscat
BEGIN:STANDARD
DTSTART:20221210T080000
TZOFFSETFROM:+0400
TZOFFSETTO:+0400
TZNAME:+04
END:STANDARD
END:VTIMEZONE
END:VCALENDAR