BEGIN:VCALENDAR
VERSION:2.0
PRODID:-//wp-events-plugin.com//7.0.4//EN
TZID:Asia/Muscat
X-WR-TIMEZONE:Asia/Muscat
BEGIN:VEVENT
UID:42@lpi-edu.com
DTSTART;TZID=Asia/Muscat:20241215T080000
DTEND;TZID=Asia/Muscat:20241219T140000
DTSTAMP:20250126T052801Z
URL:https://lpi-edu.com/events/data_analysis_excel/
SUMMARY:Data Analysis & reporting using Excel
DESCRIPTION:\nThis course\, organized into key topic areas\, leverages stra
 ightforward business examples to explain practical techniques for understa
 nding and reviewing data quality. You will learn how to make more informed
 \, intelligent business decisions by analyzing data using Excel functions 
 and tools.\n\n\n\n\nYou will get an overview of data quality and data mana
 gement\, followed by foundational analysis and statistical techniques. Thr
 oughout the course\, you will learn to communicate about data and findings
  to stakeholders who need to quickly make decisions that drive your organi
 zation forward.\n\n\nPlease contact us to provide more details
ATTACH;FMTTYPE=image/jpeg:https://lpi-edu.com/wp-content/uploads/2023/11/E
 xcel_Dashboard_Wild1.png
CATEGORIES:Expired
LOCATION:LPi Institute\, Muscat\, St 99\, Al Jami Al Akbar St\,  Galla\, Pe
 arl Tower\, 3rd Floor\, Muscat\, 900\, Oman
X-APPLE-STRUCTURED-LOCATION;VALUE=URI;X-ADDRESS=Muscat\, St 99\, Al Jami Al
  Akbar St\,  Galla\, Pearl Tower\, 3rd Floor\, Muscat\, 900\, Oman;X-APPLE
 -RADIUS=100;X-TITLE=LPi Institute:geo:0,0
END:VEVENT
BEGIN:VTIMEZONE
TZID:Asia/Muscat
X-LIC-LOCATION:Asia/Muscat
BEGIN:STANDARD
DTSTART:20231216T080000
TZOFFSETFROM:+0400
TZOFFSETTO:+0400
TZNAME:+04
END:STANDARD
END:VTIMEZONE
END:VCALENDAR