BEGIN:VCALENDAR
VERSION:2.0
PRODID:-//wp-events-plugin.com//7.0.4//EN
TZID:Asia/Muscat
X-WR-TIMEZONE:Asia/Muscat
BEGIN:VEVENT
UID:3@lpi-edu.com
DTSTART;TZID=Atlantic/Azores:20221009T000000
DTEND;TZID=Atlantic/Azores:20221013T000000
DTSTAMP:20240624T100028Z
URL:https://lpi-edu.com/events/driving-excellence/
SUMMARY:Microsoft Word
DESCRIPTION:
ATTACH;FMTTYPE=image/jpeg:https://lpi-edu.com/wp-content/uploads/2023/11/w
 eb-1-100.jpg
CATEGORIES:Expired
END:VEVENT
BEGIN:VTIMEZONE
TZID:Atlantic/Azores
X-LIC-LOCATION:Atlantic/Azores
BEGIN:DAYLIGHT
DTSTART:20220327T010000
TZOFFSETFROM:-0100
TZOFFSETTO:+0000
TZNAME:+00
END:DAYLIGHT
END:VTIMEZONE
END:VCALENDAR