BEGIN:VCALENDAR
VERSION:2.0
PRODID:-//wp-events-plugin.com//7.0.4//EN
TZID:Asia/Muscat
X-WR-TIMEZONE:Asia/Muscat
BEGIN:VEVENT
UID:49@lpi-edu.com
DTSTART;TZID=Asia/Muscat:20260419T080000
DTEND;TZID=Asia/Muscat:20260423T140000
DTSTAMP:20260316T141619Z
URL:https://lpi-edu.com/events/ec-council-certified-ethical-hacker/
SUMMARY:Microsoft 365 Copilot
DESCRIPTION:Learn the knowledge and skills to drive enablement of Microsoft
  365 Copilot across your organization. Explore effective strategies\, incl
 uding the Microsoft 365 Copilot user enablement framework to help you crea
 te and implement a robust adoption plan.\n
ATTACH;FMTTYPE=image/jpeg:https://lpi-edu.com/wp-content/uploads/2025/04/M
 icrosoft-Copilot.webp
CATEGORIES:Upcoming
LOCATION:LPi Institute\, Muscat\, St 99\, Al Jami Al Akbar St\,  Galla\, Pe
 arl Tower\, 3rd Floor\, Muscat\, 900\, Oman
X-APPLE-STRUCTURED-LOCATION;VALUE=URI;X-ADDRESS=Muscat\, St 99\, Al Jami Al
  Akbar St\,  Galla\, Pearl Tower\, 3rd Floor\, Muscat\, 900\, Oman;X-APPLE
 -RADIUS=100;X-TITLE=LPi Institute:geo:0,0
END:VEVENT
BEGIN:VTIMEZONE
TZID:Asia/Muscat
X-LIC-LOCATION:Asia/Muscat
BEGIN:STANDARD
DTSTART:20250419T080000
TZOFFSETFROM:+0400
TZOFFSETTO:+0400
TZNAME:+04
END:STANDARD
END:VTIMEZONE
END:VCALENDAR