BEGIN:VCALENDAR
VERSION:2.0
PRODID:-//wp-events-plugin.com//7.0.4//EN
TZID:Asia/Muscat
X-WR-TIMEZONE:Asia/Muscat
BEGIN:VEVENT
UID:31@lpi-edu.com
DTSTART;TZID=Asia/Muscat:20240909T080000
DTEND;TZID=Asia/Muscat:20240912T133000
DTSTAMP:20241001T090441Z
URL:https://lpi-edu.com/events/excel-dashboard-2/
SUMMARY:Excel Dashboard
DESCRIPTION:There is valuable information hidden in the sea of data. A pict
 ure is worth a thousand words - use Excel dashboard to present information
  visually and beautifully within a single page that allows users to under
 stand what is going on and make business decisions. Excel dashboard repor
 ts allow people to have high-level overview of the business and help them 
 make decisions. Excel is an excellent tool to make powerful dashboards th
 at can provide analysis\, insights and alert managers in a timely manner.\
 n\nA good Excel dashboard is:\n\n 	visually appealing for decision makers 
 to understand key information clearly\n 	highly dynamic\, allowing manager
 s to easily dig into your data\n 	easy to update\n\nPlease contact us to p
 rovide more details
ATTACH;FMTTYPE=image/jpeg:https://lpi-edu.com/wp-content/uploads/2023/11/A
 rtboard-6-100.jpg
CATEGORIES:Expired
LOCATION:LPi Institute\, Muscat\, St 99\, Al Jami Al Akbar St\,  Galla\, Pe
 arl Tower\, 3rd Floor\, Muscat\, 900\, Oman
X-APPLE-STRUCTURED-LOCATION;VALUE=URI;X-ADDRESS=Muscat\, St 99\, Al Jami Al
  Akbar St\,  Galla\, Pearl Tower\, 3rd Floor\, Muscat\, 900\, Oman;X-APPLE
 -RADIUS=100;X-TITLE=LPi Institute:geo:0,0
END:VEVENT
BEGIN:VTIMEZONE
TZID:Asia/Muscat
X-LIC-LOCATION:Asia/Muscat
BEGIN:STANDARD
DTSTART:20230910T080000
TZOFFSETFROM:+0400
TZOFFSETTO:+0400
TZNAME:+04
END:STANDARD
END:VTIMEZONE
END:VCALENDAR