BEGIN:VCALENDAR
VERSION:2.0
PRODID:-//wp-events-plugin.com//7.0.4//EN
TZID:Asia/Muscat
X-WR-TIMEZONE:Asia/Muscat
BEGIN:VEVENT
UID:9@lpi-edu.com
DTSTART;TZID=Asia/Muscat:20231203T080000
DTEND;TZID=Asia/Muscat:20231207T120000
DTSTAMP:20240626T163901Z
URL:https://lpi-edu.com/events/excel-dashboard/
SUMMARY:Excel Dashboard
DESCRIPTION:Exploring the dynamic realm of data analytics with Power BI cou
 rse. Power BI is a robust business analytics tool by Microsoft that transf
 orms raw data into insightful visualizations\, enabling professionals to m
 ake informed decisions. In this course\, delve into the intricacies of Pow
 er BI\, learning to create compelling dashboards\, analyze trends\, and ex
 tract actionable intelligence from diverse datasets. Acquire the skills to
  navigate this powerful tool and harness its capabilities for impactful da
 ta-driven insights in your professional journey.
ATTACH;FMTTYPE=image/jpeg:https://lpi-edu.com/wp-content/uploads/2023/11/E
 xcel_Dashboard_Wild1.png
CATEGORIES:Expired
END:VEVENT
BEGIN:VTIMEZONE
TZID:Asia/Muscat
X-LIC-LOCATION:Asia/Muscat
BEGIN:STANDARD
DTSTART:20221203T080000
TZOFFSETFROM:+0400
TZOFFSETTO:+0400
TZNAME:+04
END:STANDARD
END:VTIMEZONE
END:VCALENDAR