BEGIN:VCALENDAR
VERSION:2.0
PRODID:-//wp-events-plugin.com//7.0.4//EN
TZID:Asia/Muscat
X-WR-TIMEZONE:Asia/Muscat
BEGIN:VEVENT
UID:66@lpi-edu.com
DTSTART;TZID=Asia/Muscat:20250921T080000
DTEND;TZID=Asia/Muscat:20250924T140000
DTSTAMP:20260316T101023Z
URL:https://lpi-edu.com/events/itil-v4-cds/
SUMMARY:ITIL. V4 - CDS
DESCRIPTION:ITIL® 4 Specialist: Create\, Deliver &amp\; Support (CDS) is a
 n advanced module that focuses on the integration of different value strea
 ms and activities to create\, deliver\, and support IT-enabled products an
 d services. It provides practical guidance on service design\, development
 \, and ongoing operations\, as well as effective team collaboration\, work
 flow optimization\, and service quality improvement. This course is ideal 
 for IT professionals seeking to advance their IT Service Management skills
  and is a key component of the ITIL Managing Professional (MP) designation
 . As an Authorized PeopleCert Training Partner\, we provide accredited tra
 ining and official materials to ensure exam readiness and practical applic
 ation.
ATTACH;FMTTYPE=image/jpeg:https://lpi-edu.com/wp-content/uploads/2023/11/A
 rtboard-6-100.jpg
CATEGORIES:Expired
LOCATION:LPi Institute\, Muscat\, St 99\, Al Jami Al Akbar St\,  Galla\, Pe
 arl Tower\, 3rd Floor\, Muscat\, 900\, Oman
X-APPLE-STRUCTURED-LOCATION;VALUE=URI;X-ADDRESS=Muscat\, St 99\, Al Jami Al
  Akbar St\,  Galla\, Pearl Tower\, 3rd Floor\, Muscat\, 900\, Oman;X-APPLE
 -RADIUS=100;X-TITLE=LPi Institute:geo:0,0
END:VEVENT
BEGIN:VTIMEZONE
TZID:Asia/Muscat
X-LIC-LOCATION:Asia/Muscat
BEGIN:STANDARD
DTSTART:20240921T080000
TZOFFSETFROM:+0400
TZOFFSETTO:+0400
TZNAME:+04
END:STANDARD
END:VTIMEZONE
END:VCALENDAR