BEGIN:VCALENDAR
VERSION:2.0
PRODID:-//wp-events-plugin.com//7.0.4//EN
TZID:Asia/Muscat
X-WR-TIMEZONE:Asia/Muscat
BEGIN:VEVENT
UID:20@lpi-edu.com
DTSTART;TZID=Asia/Muscat:20260510T080000
DTEND;TZID=Asia/Muscat:20260513T130000
DTSTAMP:20260317T063017Z
URL:https://lpi-edu.com/events/itil-v4-foundation/
SUMMARY:ITIL.V5 / Foundation
DESCRIPTION:ITIL® is the world’s leading best practice framework for imp
 lementing IT Service Management. ITIL version 5\nintroduces IT Service Man
 agement through the lens of a Service Value System (SVS)\, which provides 
 a holistic\nend-to-end view of how to successfully contribute to business 
 value\, and also how to leverage concepts from\nmodels such as Lean IT\, A
 gile\, DevOps and Organizational Change Management. This foundational cour
 se\nimmerses you in the guiding principles\, dimensions\, and practices of
  ITIL® 5.\n\nLPi is committed to your success beyond the classroom. Your 
 enrollment in this class includes an ITIL 5\ncertification exam voucher an
 d the official\nITIL Foundation Guidance e-book. The e-book reinforces\nwh
 at you learned in class and can serve as a reference guide for you and you
 r organization as you begin your\nITIL 5 adoption. The ITIL 5 Foundation c
 ertification is required before you can get any of the Managing\nProfessio
 nal or Strategic Leader certifications. Extra resources with this class al
 so include Sample Papers with\nPractice Exam questions and a Study Guide.\
 n\nPlease contact us to provide more details
ATTACH;FMTTYPE=image/jpeg:https://lpi-edu.com/wp-content/uploads/2024/06/I
 TIL5.webp
CATEGORIES:Upcoming
LOCATION:LPi Institute\, Muscat\, St 99\, Al Jami Al Akbar St\,  Galla\, Pe
 arl Tower\, 3rd Floor\, Muscat\, 900\, Oman
X-APPLE-STRUCTURED-LOCATION;VALUE=URI;X-ADDRESS=Muscat\, St 99\, Al Jami Al
  Akbar St\,  Galla\, Pearl Tower\, 3rd Floor\, Muscat\, 900\, Oman;X-APPLE
 -RADIUS=100;X-TITLE=LPi Institute:geo:0,0
END:VEVENT
BEGIN:VTIMEZONE
TZID:Asia/Muscat
X-LIC-LOCATION:Asia/Muscat
BEGIN:STANDARD
DTSTART:20250510T080000
TZOFFSETFROM:+0400
TZOFFSETTO:+0400
TZNAME:+04
END:STANDARD
END:VTIMEZONE
END:VCALENDAR