BEGIN:VCALENDAR
VERSION:2.0
PRODID:-//wp-events-plugin.com//7.0.4//EN
TZID:Asia/Muscat
X-WR-TIMEZONE:Asia/Muscat
BEGIN:VEVENT
UID:65@lpi-edu.com
DTSTART;TZID=Asia/Muscat:20250916T080000
DTEND;TZID=Asia/Muscat:20250918T140000
DTSTAMP:20260316T100909Z
URL:https://lpi-edu.com/events/itil-v4foundation/
SUMMARY:ITIL. V4 - Foundation
DESCRIPTION:ITIL® 4 Foundation introduces learners to the key concepts\, p
 ractices\, and principles of modern IT Service Management (ITSM). The cour
 se provides a comprehensive understanding of the ITIL framework\, service 
 value system\, and guiding principles to align IT services with business n
 eeds. Designed for IT professionals at all levels\, it prepares participan
 ts for the official ITIL 4 Foundation certification exam. As an Authorized
  PeopleCert Training Partner\, we deliver accredited training with officia
 l materials to ensure the highest learning quality.
ATTACH;FMTTYPE=image/jpeg:https://lpi-edu.com/wp-content/uploads/2023/11/A
 rtboard-6-100.jpg
CATEGORIES:Expired
LOCATION:LPi Institute\, Muscat\, St 99\, Al Jami Al Akbar St\,  Galla\, Pe
 arl Tower\, 3rd Floor\, Muscat\, 900\, Oman
X-APPLE-STRUCTURED-LOCATION;VALUE=URI;X-ADDRESS=Muscat\, St 99\, Al Jami Al
  Akbar St\,  Galla\, Pearl Tower\, 3rd Floor\, Muscat\, 900\, Oman;X-APPLE
 -RADIUS=100;X-TITLE=LPi Institute:geo:0,0
END:VEVENT
BEGIN:VTIMEZONE
TZID:Asia/Muscat
X-LIC-LOCATION:Asia/Muscat
BEGIN:STANDARD
DTSTART:20240916T080000
TZOFFSETFROM:+0400
TZOFFSETTO:+0400
TZNAME:+04
END:STANDARD
END:VTIMEZONE
END:VCALENDAR