BEGIN:VCALENDAR
VERSION:2.0
PRODID:-//wp-events-plugin.com//7.0.4//EN
TZID:Asia/Muscat
X-WR-TIMEZONE:Asia/Muscat
BEGIN:VEVENT
UID:47@lpi-edu.com
DTSTART;TZID=Asia/Muscat:20250420T080000
DTEND;TZID=Asia/Muscat:20250424T120000
DTSTAMP:20250430T171107Z
URL:https://lpi-edu.com/events/java-script/
SUMMARY:Java Script
DESCRIPTION:\nLearn the fundamentals of JavaScript\, the programming langua
 ge of the web! This short course covers the basics of scripting\, interact
 ivity\, and dynamic content creation for websites. Perfect for beginners l
 ooking to enhance their web development skills.\nWhat candidate will Learn
 :\n\n\n 	\nJavaScript syntax &amp\; structure\n\n 	\nVariables\, functions
 \, and events\n\n 	\nDOM manipulation\n\n 	\nCreating interactive web elem
 ents\n\n\n\nPlease contact us to provide more details
ATTACH;FMTTYPE=image/jpeg:https://lpi-edu.com/wp-content/uploads/2023/11/A
 rtboard-6-100.jpg
CATEGORIES:Expired
END:VEVENT
BEGIN:VTIMEZONE
TZID:Asia/Muscat
X-LIC-LOCATION:Asia/Muscat
BEGIN:STANDARD
DTSTART:20240420T080000
TZOFFSETFROM:+0400
TZOFFSETTO:+0400
TZNAME:+04
END:STANDARD
END:VTIMEZONE
END:VCALENDAR