BEGIN:VCALENDAR
VERSION:2.0
PRODID:-//wp-events-plugin.com//7.0.4//EN
TZID:Asia/Muscat
X-WR-TIMEZONE:Asia/Muscat
BEGIN:VEVENT
UID:17@lpi-edu.com
DTSTART;TZID=Asia/Muscat:20240707T080000
DTEND;TZID=Asia/Muscat:20240711T123000
DTSTAMP:20240908T081743Z
URL:https://lpi-edu.com/events/leadership_excellence/
SUMMARY:التميز قيادي وبناء الثقافة المؤسسية
DESCRIPTION:القيادة قرار وليست منصباً، وهي تتع
 لق بالتكيف مع التغيير.\nهل تعتقد أن المها
 رات القيادية والإدارية في فريقك ستساعدك 
 على زيادة فرص العمل إلى أقصى حد؟ لماذا ال
 إدارة؟ تريد المؤسسات اليوم أن يكون مديرو
 ها متعددو المهارات. إلى جانب امتلاك الخب
 رة الفنية، تريد الشركات أيضًا أن يكون مد
 يروها ماهرين في إدارة الأفراد بفعالية، و
 التعامل مع التغييرات الكبيرة، والتعامل 
 مع العملاء بشكل جيد، وفهم الصعوبات التي 
 تواجه أعمالهم، وصناعاتهم، وأسواقهم.\nلا 
 يضمن القادة كفاءة العمليات في المؤسسة فح
 سب، بل يقودون الأداء أيضاً ويؤثرون على س
 معة المؤسسة ونموها. إن كونك قائداً فعالا
 ً لا يعني أن تصبح متقناً لجميع المهارات ا
 لقيادية. بل يتعلق الأمر بالتعرف على نقاط 
 القوة والضعف لديك ومن ثم إيجاد طرق لتعزي
 ز نقاط القوة والتغلب على نقاط الضعف.\nيرج
 ى التواصل معنا لتزويدكم بالعرض الفني وال
 مالي للبرنامج
ATTACH;FMTTYPE=image/jpeg:https://lpi-edu.com/wp-content/uploads/2023/11/A
 rtboard-5-100.jpg
CATEGORIES:Expired
LOCATION:LPi Institute\, Muscat\, St 99\, Al Jami Al Akbar St\,  Galla\, Pe
 arl Tower\, 3rd Floor\, Muscat\, 900\, Oman
X-APPLE-STRUCTURED-LOCATION;VALUE=URI;X-ADDRESS=Muscat\, St 99\, Al Jami Al
  Akbar St\,  Galla\, Pearl Tower\, 3rd Floor\, Muscat\, 900\, Oman;X-APPLE
 -RADIUS=100;X-TITLE=LPi Institute:geo:0,0
END:VEVENT
BEGIN:VTIMEZONE
TZID:Asia/Muscat
X-LIC-LOCATION:Asia/Muscat
BEGIN:STANDARD
DTSTART:20230708T080000
TZOFFSETFROM:+0400
TZOFFSETTO:+0400
TZNAME:+04
END:STANDARD
END:VTIMEZONE
END:VCALENDAR