BEGIN:VCALENDAR
VERSION:2.0
PRODID:-//wp-events-plugin.com//7.0.4//EN
TZID:Asia/Muscat
X-WR-TIMEZONE:Asia/Muscat
BEGIN:VEVENT
UID:39@lpi-edu.com
DTSTART;TZID=Asia/Muscat:20241202T080000
DTEND;TZID=Asia/Muscat:20241205T133000
DTSTAMP:20250126T052812Z
URL:https://lpi-edu.com/events/lean_six_sigma/
SUMMARY:Lean Six Sigma Yellow
DESCRIPTION:The Lean Six Sigma Yellow Belt course has been created for prof
 essionals who want to get more familiar with the values of the Lean Six Si
 gma certification. Also\, as Yellow Belt in the most basic level of Lean S
 ix Sigma\, those individuals can still work professionals who are qualifie
 d in the green and black belt. Lean Six Sigma’s main purpose is to make 
 all business process as efficient as possible\, which helps business maxim
 ize the impact of their resources. Lean Six Sigma is based on the Six Sigm
 a principles\, which were created by Motorola as they believed there shoul
 d be a standardized process to remove defects from a business project.\n\n
 Please contact us to provide more details
ATTACH;FMTTYPE=image/jpeg:https://lpi-edu.com/wp-content/uploads/2023/11/A
 rtboard-5-100.jpg
CATEGORIES:Expired
LOCATION:LPi Institute\, Muscat\, St 99\, Al Jami Al Akbar St\,  Galla\, Pe
 arl Tower\, 3rd Floor\, Muscat\, 900\, Oman
X-APPLE-STRUCTURED-LOCATION;VALUE=URI;X-ADDRESS=Muscat\, St 99\, Al Jami Al
  Akbar St\,  Galla\, Pearl Tower\, 3rd Floor\, Muscat\, 900\, Oman;X-APPLE
 -RADIUS=100;X-TITLE=LPi Institute:geo:0,0
END:VEVENT
BEGIN:VTIMEZONE
TZID:Asia/Muscat
X-LIC-LOCATION:Asia/Muscat
BEGIN:STANDARD
DTSTART:20231203T080000
TZOFFSETFROM:+0400
TZOFFSETTO:+0400
TZNAME:+04
END:STANDARD
END:VTIMEZONE
END:VCALENDAR