BEGIN:VCALENDAR
VERSION:2.0
PRODID:-//wp-events-plugin.com//7.0.4//EN
TZID:Asia/Muscat
X-WR-TIMEZONE:Asia/Muscat
BEGIN:VEVENT
UID:60@lpi-edu.com
DTSTART;TZID=Asia/Muscat:20250810T130000
DTEND;TZID=Asia/Muscat:20250814T170000
DTSTAMP:20250821T104333Z
URL:https://lpi-edu.com/events/machine-learning-from-zero-to-hero/
SUMMARY:Machine Learning From Zero to Hero
DESCRIPTION:Course Goal: To provide a comprehensive understanding of Machin
 e Learning principles\, algorithms\, and practical implementation\, enabli
 ng participants to confidently build\, evaluate\, and deploy machine learn
 ing models for real-world problems.\n\nTarget Audience: Individuals with l
 ittle to no prior ML experience\, but a strong desire to learn. Basic comp
 uter literacy is assumed. Some programming aptitude is beneficial but ofte
 n built from scratch.
ATTACH;FMTTYPE=image/jpeg:https://lpi-edu.com/wp-content/uploads/2023/11/A
 rtboard-5-100.jpg
CATEGORIES:Expired
END:VEVENT
BEGIN:VTIMEZONE
TZID:Asia/Muscat
X-LIC-LOCATION:Asia/Muscat
BEGIN:STANDARD
DTSTART:20240810T130000
TZOFFSETFROM:+0400
TZOFFSETTO:+0400
TZNAME:+04
END:STANDARD
END:VTIMEZONE
END:VCALENDAR