BEGIN:VCALENDAR
VERSION:2.0
PRODID:-//wp-events-plugin.com//7.0.4//EN
TZID:Asia/Muscat
X-WR-TIMEZONE:Asia/Muscat
BEGIN:VEVENT
UID:41@lpi-edu.com
DTSTART;TZID=Asia/Muscat:20231208T080000
DTEND;TZID=Asia/Muscat:20231212T140000
DTSTAMP:20250126T052123Z
URL:https://lpi-edu.com/events/microsoft_office/
SUMMARY:Microsoft Office
DESCRIPTION:Microsoft Office courses provide essential skills for using too
 ls like Word\, Excel\, and Outlook efficiently. Introductory classes cover
  the basics of document creation\, data management\, and email organizatio
 n. learners can earn knowledge in areas such as Word documents editing and
  text formatting\, Excel functions for data\,  and managing Outlook for p
 roductivity and official messaging. Learners will have experience using Mi
 crosoft Office applications for business tasks and communication. Full pro
 grams offer hands-on projects and training\, preparing you for roles in of
 fice administration\, data analysis\, and project management.\n\nPlease co
 ntact us to provide more details
ATTACH;FMTTYPE=image/jpeg:https://lpi-edu.com/wp-content/uploads/2023/11/E
 xcel_Dashboard_Wild1.png
CATEGORIES:Expired
LOCATION:LPi Institute\, Muscat\, St 99\, Al Jami Al Akbar St\,  Galla\, Pe
 arl Tower\, 3rd Floor\, Muscat\, 900\, Oman
X-APPLE-STRUCTURED-LOCATION;VALUE=URI;X-ADDRESS=Muscat\, St 99\, Al Jami Al
  Akbar St\,  Galla\, Pearl Tower\, 3rd Floor\, Muscat\, 900\, Oman;X-APPLE
 -RADIUS=100;X-TITLE=LPi Institute:geo:0,0
END:VEVENT
BEGIN:VTIMEZONE
TZID:Asia/Muscat
X-LIC-LOCATION:Asia/Muscat
BEGIN:STANDARD
DTSTART:20221208T080000
TZOFFSETFROM:+0400
TZOFFSETTO:+0400
TZNAME:+04
END:STANDARD
END:VTIMEZONE
END:VCALENDAR