BEGIN:VCALENDAR
VERSION:2.0
PRODID:-//wp-events-plugin.com//7.0.4//EN
TZID:Asia/Muscat
X-WR-TIMEZONE:Asia/Muscat
BEGIN:VEVENT
UID:7@lpi-edu.com
DTSTART;TZID=Asia/Muscat:20221002T000000
DTEND;TZID=Asia/Muscat:20221013T000000
DTSTAMP:20240624T100028Z
URL:https://lpi-edu.com/events/oracle-data-guard-administration/
SUMMARY:Oracle
DESCRIPTION:
ATTACH;FMTTYPE=image/jpeg:https://lpi-edu.com/wp-content/uploads/2023/11/D
 riving-Excel-lence-Reels-cover-100.jpg
CATEGORIES:Expired
END:VEVENT
BEGIN:VTIMEZONE
TZID:Asia/Muscat
X-LIC-LOCATION:Asia/Muscat
BEGIN:STANDARD
DTSTART:20211002T000000
TZOFFSETFROM:+0400
TZOFFSETTO:+0400
TZNAME:+04
END:STANDARD
END:VTIMEZONE
END:VCALENDAR